View In:
ArcGIS JavaScript
ArcGIS Online Map Viewer
ArcGIS Earth
Service Description: agsmap029992_tif
Name: agsmap029992_tif
Description:
Single Fused Map Cache: false
Extent:
XMin: -86.74255587034577
YMin: 7.563263757604318
XMax: -81.21080995823154
YMax: 11.865565154571328
Spatial Reference: 4326
(4326)
LatestVCSWkid(0)
Initial Extent:
XMin: -86.74255587034577
YMin: 7.563263757604318
XMax: -81.21080995823154
YMax: 11.865565154571328
Spatial Reference: 4326
(4326)
LatestVCSWkid(0)
Full Extent:
XMin: -86.74255587034577
YMin: 7.563263757604318
XMax: -81.21080995823154
YMax: 11.865565154571328
Spatial Reference: 4326
(4326)
LatestVCSWkid(0)
Pixel Size X: 4.630238480048742E-4
Pixel Size Y: 4.6406012263693346E-4
Band Count: 3
Pixel Type: U8
RasterFunction Infos: {"rasterFunctionInfos": [{
"name": "None",
"description": "",
"help": ""
}]}
Mensuration Capabilities: Basic
Has Histograms: true
Has Colormap: false
Has Multi Dimensions : false
Rendering Rule:
Min Scale: 0
Max Scale: 0
Copyright Text:
Service Data Type: esriImageServiceDataTypeRGB
Min Values: 5, 0, 14
Max Values: 255, 248, 231
Mean Values: 206.79228311051, 196.04306756566, 170.74755296872
Standard Deviation Values: 30.575035802268, 29.462786076502, 24.970995101257
Object ID Field:
Fields:
None
Default Mosaic Method: Center
Allowed Mosaic Methods:
SortField:
SortValue: null
Mosaic Operator: First
Default Compression Quality: 75
Default Resampling Method: Bilinear
Max Record Count: null
Max Image Height: 4100
Max Image Width: 15000
Max Download Image Count: null
Max Mosaic Image Count: null
Allow Raster Function: true
Allow Copy: true
Allow Analysis: true
Allow Compute TiePoints: false
Supports Statistics: false
Supports Advanced Queries: false
Use StandardizedQueries: true
Raster Type Infos:
Name: Raster Dataset
Description: Supports all ArcGIS Raster Datasets
Help:
Has Raster Attribute Table: false
Edit Fields Info: null
Ownership Based AccessControl For Rasters: null
Child Resources:
Info
Histograms
Statistics
Key Properties
Legend
Raster Function Infos
Supported Operations:
Export Image
Identify
Measure
Compute Histograms
Compute Statistics Histograms
Get Samples
Compute Class Statistics
Query Boundary
Compute Pixel Location
Compute Angles
Validate
Project