{
 "currentVersion": 11.1,
 "serviceDescription": "agsmap029992_tif",
 "name": "agsmap029992_tif",
 "description": "",
 "extent": {
  "xmin": -86.74255587034577,
  "ymin": 7.563263757604318,
  "xmax": -81.21080995823154,
  "ymax": 11.865565154571328,
  "spatialReference": {
   "wkid": 4326,
   "latestWkid": 4326
  }
 },
 "initialExtent": {
  "xmin": -86.74255587034577,
  "ymin": 7.563263757604318,
  "xmax": -81.21080995823154,
  "ymax": 11.865565154571328,
  "spatialReference": {
   "wkid": 4326,
   "latestWkid": 4326
  }
 },
 "fullExtent": {
  "xmin": -86.74255587034577,
  "ymin": 7.563263757604318,
  "xmax": -81.21080995823154,
  "ymax": 11.865565154571328,
  "spatialReference": {
   "wkid": 4326,
   "latestWkid": 4326
  }
 },
 "sortableFields": "",
 "bandCount": 3,
 "pixelType": "U8",
 "minValues": [
  5,
  0,
  14
 ],
 "maxValues": [
  255,
  248,
  231
 ],
 "meanValues": [
  206.79228311051,
  196.04306756566,
  170.74755296872
 ],
 "stdvValues": [
  30.575035802268,
  29.462786076502,
  24.970995101257
 ],
 "hasMultidimensions": false,
 "pixelSizeX": 4.630238480048742E-4,
 "pixelSizeY": 4.6406012263693346E-4,
 "datasetFormat": "TIFF",
 "uncompressedSize": 332281911,
 "blockWidth": 11947,
 "blockHeight": 1,
 "compressionType": "None",
 "bandNames": [
  "Band_1",
  "Band_2",
  "Band_3"
 ],
 "allowCopy": true,
 "allowAnalysis": true,
 "itemAccess": false,
 "minPixelSize": 0,
 "maxPixelSize": 0,
 "copyrightText": "",
 "serviceDataType": "esriImageServiceDataTypeRGB",
 "serviceSourceType": "esriImageServiceSourceTypeDataset",
 "objectIdField": "",
 "fields": [],
 "capabilities": "Image,Metadata,Mensuration",
 "defaultMosaicMethod": "Center",
 "allowedMosaicMethods": "",
 "sortField": "",
 "sortValue": null,
 "sortAscending": true,
 "mosaicOperator": "First",
 "defaultCompressionQuality": 75,
 "defaultResamplingMethod": "Bilinear",
 "maxImageHeight": 4100,
 "maxImageWidth": 15000,
 "allowRasterFunction": true,
 "rasterFunctionInfos": [
  {
   "name": "None",
   "description": "",
   "help": ""
  }
 ],
 "rasterTypeInfos": [
  {
   "name": "Raster Dataset",
   "description": "Supports all ArcGIS Raster Datasets",
   "help": ""
  }
 ],
 "mensurationCapabilities": "Basic",
 "hasHistograms": true,
 "hasColormap": false,
 "hasRasterAttributeTable": false,
 "minScale": 0,
 "maxScale": 0,
 "exportTilesAllowed": false,
 "supportsStatistics": false,
 "supportsAdvancedQueries": false,
 "editFieldsInfo": null,
 "ownershipBasedAccessControlForRasters": null,
 "allowComputeTiePoints": false,
 "useStandardizedQueries": true,
 "advancedQueryCapabilities": {
  "useStandardizedQueries": true,
  "supportsStatistics": false,
  "supportsOrderBy": false,
  "supportsDistinct": false,
  "supportsPagination": false
 },
 "spatialReference": {
  "wkid": 4326,
  "latestWkid": 4326
 }
}
