View In:
ArcGIS JavaScript
ArcGIS Online Map Viewer
ArcGIS Earth
Service Description: agsmap029991_tif
Name: agsmap029991_tif
Description:
Single Fused Map Cache: false
Extent:
XMin: -84.17205078357526
YMin: 6.441949833090394
XMax: -75.21971735879552
YMax: 10.704419272339123
Spatial Reference: 4326
(4326)
LatestVCSWkid(0)
Initial Extent:
XMin: -84.17205078357526
YMin: 6.441949833090394
XMax: -75.21971735879552
YMax: 10.704419272339123
Spatial Reference: 4326
(4326)
LatestVCSWkid(0)
Full Extent:
XMin: -84.17205078357526
YMin: 6.441949833090394
XMax: -75.21971735879552
YMax: 10.704419272339123
Spatial Reference: 4326
(4326)
LatestVCSWkid(0)
Pixel Size X: 5.75749786145716E-4
Pixel Size Y: 5.563128999280513E-4
Band Count: 3
Pixel Type: U8
RasterFunction Infos: {"rasterFunctionInfos": [{
"name": "None",
"description": "",
"help": ""
}]}
Mensuration Capabilities: Basic
Has Histograms: true
Has Colormap: false
Has Multi Dimensions : false
Rendering Rule:
Min Scale: 0
Max Scale: 0
Copyright Text:
Service Data Type: esriImageServiceDataTypeRGB
Min Values: 15, 2, 6
Max Values: 251, 241, 209
Mean Values: 216.30905813221, 202.98096590727, 165.18016844687
Standard Deviation Values: 28.522139757211, 26.630341634165, 19.176668739901
Object ID Field:
Fields:
None
Default Mosaic Method: Center
Allowed Mosaic Methods:
SortField:
SortValue: null
Mosaic Operator: First
Default Compression Quality: 75
Default Resampling Method: Bilinear
Max Record Count: null
Max Image Height: 4100
Max Image Width: 15000
Max Download Image Count: null
Max Mosaic Image Count: null
Allow Raster Function: true
Allow Copy: true
Allow Analysis: true
Allow Compute TiePoints: false
Supports Statistics: false
Supports Advanced Queries: false
Use StandardizedQueries: true
Raster Type Infos:
Name: Raster Dataset
Description: Supports all ArcGIS Raster Datasets
Help:
Has Raster Attribute Table: false
Edit Fields Info: null
Ownership Based AccessControl For Rasters: null
Child Resources:
Info
Histograms
Statistics
Key Properties
Legend
Raster Function Infos
Supported Operations:
Export Image
Identify
Measure
Compute Histograms
Compute Statistics Histograms
Get Samples
Compute Class Statistics
Query Boundary
Compute Pixel Location
Compute Angles
Validate
Project