{
 "currentVersion": 11.1,
 "serviceDescription": "agsmap029991_tif",
 "name": "agsmap029991_tif",
 "description": "",
 "extent": {
  "xmin": -84.17205078357526,
  "ymin": 6.441949833090394,
  "xmax": -75.21971735879552,
  "ymax": 10.704419272339123,
  "spatialReference": {
   "wkid": 4326,
   "latestWkid": 4326
  }
 },
 "initialExtent": {
  "xmin": -84.17205078357526,
  "ymin": 6.441949833090394,
  "xmax": -75.21971735879552,
  "ymax": 10.704419272339123,
  "spatialReference": {
   "wkid": 4326,
   "latestWkid": 4326
  }
 },
 "fullExtent": {
  "xmin": -84.17205078357526,
  "ymin": 6.441949833090394,
  "xmax": -75.21971735879552,
  "ymax": 10.704419272339123,
  "spatialReference": {
   "wkid": 4326,
   "latestWkid": 4326
  }
 },
 "sortableFields": "",
 "bandCount": 3,
 "pixelType": "U8",
 "minValues": [
  15,
  2,
  6
 ],
 "maxValues": [
  251,
  241,
  209
 ],
 "meanValues": [
  216.30905813221,
  202.98096590727,
  165.18016844687
 ],
 "stdvValues": [
  28.522139757211,
  26.630341634165,
  19.176668739901
 ],
 "hasMultidimensions": false,
 "pixelSizeX": 5.75749786145716E-4,
 "pixelSizeY": 5.563128999280513E-4,
 "datasetFormat": "TIFF",
 "uncompressedSize": 357409314,
 "blockWidth": 15549,
 "blockHeight": 1,
 "compressionType": "None",
 "bandNames": [
  "Band_1",
  "Band_2",
  "Band_3"
 ],
 "allowCopy": true,
 "allowAnalysis": true,
 "itemAccess": false,
 "minPixelSize": 0,
 "maxPixelSize": 0,
 "copyrightText": "",
 "serviceDataType": "esriImageServiceDataTypeRGB",
 "serviceSourceType": "esriImageServiceSourceTypeDataset",
 "objectIdField": "",
 "fields": [],
 "capabilities": "Image,Metadata,Mensuration",
 "defaultMosaicMethod": "Center",
 "allowedMosaicMethods": "",
 "sortField": "",
 "sortValue": null,
 "sortAscending": true,
 "mosaicOperator": "First",
 "defaultCompressionQuality": 75,
 "defaultResamplingMethod": "Bilinear",
 "maxImageHeight": 4100,
 "maxImageWidth": 15000,
 "allowRasterFunction": true,
 "rasterFunctionInfos": [
  {
   "name": "None",
   "description": "",
   "help": ""
  }
 ],
 "rasterTypeInfos": [
  {
   "name": "Raster Dataset",
   "description": "Supports all ArcGIS Raster Datasets",
   "help": ""
  }
 ],
 "mensurationCapabilities": "Basic",
 "hasHistograms": true,
 "hasColormap": false,
 "hasRasterAttributeTable": false,
 "minScale": 0,
 "maxScale": 0,
 "exportTilesAllowed": false,
 "supportsStatistics": false,
 "supportsAdvancedQueries": false,
 "editFieldsInfo": null,
 "ownershipBasedAccessControlForRasters": null,
 "allowComputeTiePoints": false,
 "useStandardizedQueries": true,
 "advancedQueryCapabilities": {
  "useStandardizedQueries": true,
  "supportsStatistics": false,
  "supportsOrderBy": false,
  "supportsDistinct": false,
  "supportsPagination": false
 },
 "spatialReference": {
  "wkid": 4326,
  "latestWkid": 4326
 }
}
