View In:
ArcGIS JavaScript
ArcGIS Online Map Viewer
ArcGIS Earth
Service Description: agsmap029990_tif
Name: agsmap029990_tif
Description:
Single Fused Map Cache: false
Extent:
XMin: -83.84909381507318
YMin: 5.649443203537063
XMax: -76.49703828628547
YMax: 10.16388362866168
Spatial Reference: 4326
(4326)
LatestVCSWkid(0)
Initial Extent:
XMin: -83.84909381507318
YMin: 5.649443203537063
XMax: -76.49703828628547
YMax: 10.16388362866168
Spatial Reference: 4326
(4326)
LatestVCSWkid(0)
Full Extent:
XMin: -83.84909381507318
YMin: 5.649443203537063
XMax: -76.49703828628547
YMax: 10.16388362866168
Spatial Reference: 4326
(4326)
LatestVCSWkid(0)
Pixel Size X: 7.720314531962304E-4
Pixel Size Y: 7.542924686925005E-4
Band Count: 3
Pixel Type: U8
RasterFunction Infos: {"rasterFunctionInfos": [{
"name": "None",
"description": "",
"help": ""
}]}
Mensuration Capabilities: Basic
Has Histograms: true
Has Colormap: false
Has Multi Dimensions : false
Rendering Rule:
Min Scale: 0
Max Scale: 0
Copyright Text:
Service Data Type: esriImageServiceDataTypeRGB
Min Values: 8, 8, 17
Max Values: 255, 255, 255
Mean Values: 216.85709036148, 221.21680688473, 212.29378688422
Standard Deviation Values: 37.745864563874, 35.640249951366, 30.378468556571
Object ID Field:
Fields:
None
Default Mosaic Method: Center
Allowed Mosaic Methods:
SortField:
SortValue: null
Mosaic Operator: First
Default Compression Quality: 75
Default Resampling Method: Bilinear
Max Record Count: null
Max Image Height: 4100
Max Image Width: 15000
Max Download Image Count: null
Max Mosaic Image Count: null
Allow Raster Function: true
Allow Copy: true
Allow Analysis: true
Allow Compute TiePoints: false
Supports Statistics: false
Supports Advanced Queries: false
Use StandardizedQueries: true
Raster Type Infos:
Name: Raster Dataset
Description: Supports all ArcGIS Raster Datasets
Help:
Has Raster Attribute Table: false
Edit Fields Info: null
Ownership Based AccessControl For Rasters: null
Child Resources:
Info
Histograms
Statistics
Key Properties
Legend
Raster Function Infos
Supported Operations:
Export Image
Identify
Measure
Compute Histograms
Compute Statistics Histograms
Get Samples
Compute Class Statistics
Query Boundary
Compute Pixel Location
Compute Angles
Validate
Project