{
 "currentVersion": 11.1,
 "serviceDescription": "agsmap029990_tif",
 "name": "agsmap029990_tif",
 "description": "",
 "extent": {
  "xmin": -83.84909381507318,
  "ymin": 5.649443203537063,
  "xmax": -76.49703828628547,
  "ymax": 10.16388362866168,
  "spatialReference": {
   "wkid": 4326,
   "latestWkid": 4326
  }
 },
 "initialExtent": {
  "xmin": -83.84909381507318,
  "ymin": 5.649443203537063,
  "xmax": -76.49703828628547,
  "ymax": 10.16388362866168,
  "spatialReference": {
   "wkid": 4326,
   "latestWkid": 4326
  }
 },
 "fullExtent": {
  "xmin": -83.84909381507318,
  "ymin": 5.649443203537063,
  "xmax": -76.49703828628547,
  "ymax": 10.16388362866168,
  "spatialReference": {
   "wkid": 4326,
   "latestWkid": 4326
  }
 },
 "sortableFields": "",
 "bandCount": 3,
 "pixelType": "U8",
 "minValues": [
  8,
  8,
  17
 ],
 "maxValues": [
  255,
  255,
  255
 ],
 "meanValues": [
  216.85709036148,
  221.21680688473,
  212.29378688422
 ],
 "stdvValues": [
  37.745864563874,
  35.640249951366,
  30.378468556571
 ],
 "hasMultidimensions": false,
 "pixelSizeX": 7.720314531962304E-4,
 "pixelSizeY": 7.542924686925005E-4,
 "datasetFormat": "TIFF",
 "uncompressedSize": 170985465,
 "blockWidth": 9523,
 "blockHeight": 1,
 "compressionType": "None",
 "bandNames": [
  "Band_1",
  "Band_2",
  "Band_3"
 ],
 "allowCopy": true,
 "allowAnalysis": true,
 "itemAccess": false,
 "minPixelSize": 0,
 "maxPixelSize": 0,
 "copyrightText": "",
 "serviceDataType": "esriImageServiceDataTypeRGB",
 "serviceSourceType": "esriImageServiceSourceTypeDataset",
 "objectIdField": "",
 "fields": [],
 "capabilities": "Image,Metadata,Mensuration",
 "defaultMosaicMethod": "Center",
 "allowedMosaicMethods": "",
 "sortField": "",
 "sortValue": null,
 "sortAscending": true,
 "mosaicOperator": "First",
 "defaultCompressionQuality": 75,
 "defaultResamplingMethod": "Bilinear",
 "maxImageHeight": 4100,
 "maxImageWidth": 15000,
 "allowRasterFunction": true,
 "rasterFunctionInfos": [
  {
   "name": "None",
   "description": "",
   "help": ""
  }
 ],
 "rasterTypeInfos": [
  {
   "name": "Raster Dataset",
   "description": "Supports all ArcGIS Raster Datasets",
   "help": ""
  }
 ],
 "mensurationCapabilities": "Basic",
 "hasHistograms": true,
 "hasColormap": false,
 "hasRasterAttributeTable": false,
 "minScale": 0,
 "maxScale": 0,
 "exportTilesAllowed": false,
 "supportsStatistics": false,
 "supportsAdvancedQueries": false,
 "editFieldsInfo": null,
 "ownershipBasedAccessControlForRasters": null,
 "allowComputeTiePoints": false,
 "useStandardizedQueries": true,
 "advancedQueryCapabilities": {
  "useStandardizedQueries": true,
  "supportsStatistics": false,
  "supportsOrderBy": false,
  "supportsDistinct": false,
  "supportsPagination": false
 },
 "spatialReference": {
  "wkid": 4326,
  "latestWkid": 4326
 }
}
