View In:
ArcGIS JavaScript
ArcGIS Online Map Viewer
ArcGIS Earth
Service Description: agsmap029989_tif
Name: agsmap029989_tif
Description:
Single Fused Map Cache: false
Extent:
XMin: -94.83149141057365
YMin: 4.54316751593499
XMax: -73.75909503003368
YMax: 20.52412484221071
Spatial Reference: 4326
(4326)
LatestVCSWkid(0)
Initial Extent:
XMin: -94.83149141057365
YMin: 4.54316751593499
XMax: -73.75909503003368
YMax: 20.52412484221071
Spatial Reference: 4326
(4326)
LatestVCSWkid(0)
Full Extent:
XMin: -94.83149141057365
YMin: 4.54316751593499
XMax: -73.75909503003368
YMax: 20.52412484221071
Spatial Reference: 4326
(4326)
LatestVCSWkid(0)
Pixel Size X: 0.004796812287853397
Pixel Size Y: 0.00468787249230734
Band Count: 3
Pixel Type: U8
RasterFunction Infos: {"rasterFunctionInfos": [{
"name": "None",
"description": "",
"help": ""
}]}
Mensuration Capabilities: Basic
Has Histograms: true
Has Colormap: false
Has Multi Dimensions : false
Rendering Rule:
Min Scale: 0
Max Scale: 0
Copyright Text:
Service Data Type: esriImageServiceDataTypeRGB
Min Values: 23, 23, 14
Max Values: 255, 255, 235
Mean Values: 219.33331207671, 209.89352577443, 191.690795251
Standard Deviation Values: 29.822684942798, 28.805883131701, 25.342621107975
Object ID Field:
Fields:
None
Default Mosaic Method: Center
Allowed Mosaic Methods:
SortField:
SortValue: null
Mosaic Operator: First
Default Compression Quality: 75
Default Resampling Method: Bilinear
Max Record Count: null
Max Image Height: 4100
Max Image Width: 15000
Max Download Image Count: null
Max Mosaic Image Count: null
Allow Raster Function: true
Allow Copy: true
Allow Analysis: true
Allow Compute TiePoints: false
Supports Statistics: false
Supports Advanced Queries: false
Use StandardizedQueries: true
Raster Type Infos:
Name: Raster Dataset
Description: Supports all ArcGIS Raster Datasets
Help:
Has Raster Attribute Table: false
Edit Fields Info: null
Ownership Based AccessControl For Rasters: null
Child Resources:
Info
Histograms
Statistics
Key Properties
Legend
Raster Function Infos
Supported Operations:
Export Image
Identify
Measure
Compute Histograms
Compute Statistics Histograms
Get Samples
Compute Class Statistics
Query Boundary
Compute Pixel Location
Compute Angles
Validate
Project