{
 "currentVersion": 11.1,
 "serviceDescription": "agsmap029989_tif",
 "name": "agsmap029989_tif",
 "description": "",
 "extent": {
  "xmin": -94.83149141057365,
  "ymin": 4.54316751593499,
  "xmax": -73.75909503003368,
  "ymax": 20.52412484221071,
  "spatialReference": {
   "wkid": 4326,
   "latestWkid": 4326
  }
 },
 "initialExtent": {
  "xmin": -94.83149141057365,
  "ymin": 4.54316751593499,
  "xmax": -73.75909503003368,
  "ymax": 20.52412484221071,
  "spatialReference": {
   "wkid": 4326,
   "latestWkid": 4326
  }
 },
 "fullExtent": {
  "xmin": -94.83149141057365,
  "ymin": 4.54316751593499,
  "xmax": -73.75909503003368,
  "ymax": 20.52412484221071,
  "spatialReference": {
   "wkid": 4326,
   "latestWkid": 4326
  }
 },
 "sortableFields": "",
 "bandCount": 3,
 "pixelType": "U8",
 "minValues": [
  23,
  23,
  14
 ],
 "maxValues": [
  255,
  255,
  235
 ],
 "meanValues": [
  219.33331207671,
  209.89352577443,
  191.690795251
 ],
 "stdvValues": [
  29.822684942798,
  28.805883131701,
  25.342621107975
 ],
 "hasMultidimensions": false,
 "pixelSizeX": 0.004796812287853397,
 "pixelSizeY": 0.00468787249230734,
 "datasetFormat": "TIFF",
 "uncompressedSize": 44927211,
 "blockWidth": 4393,
 "blockHeight": 1,
 "compressionType": "None",
 "bandNames": [
  "Band_1",
  "Band_2",
  "Band_3"
 ],
 "allowCopy": true,
 "allowAnalysis": true,
 "itemAccess": false,
 "minPixelSize": 0,
 "maxPixelSize": 0,
 "copyrightText": "",
 "serviceDataType": "esriImageServiceDataTypeRGB",
 "serviceSourceType": "esriImageServiceSourceTypeDataset",
 "objectIdField": "",
 "fields": [],
 "capabilities": "Image,Metadata,Mensuration",
 "defaultMosaicMethod": "Center",
 "allowedMosaicMethods": "",
 "sortField": "",
 "sortValue": null,
 "sortAscending": true,
 "mosaicOperator": "First",
 "defaultCompressionQuality": 75,
 "defaultResamplingMethod": "Bilinear",
 "maxImageHeight": 4100,
 "maxImageWidth": 15000,
 "allowRasterFunction": true,
 "rasterFunctionInfos": [
  {
   "name": "None",
   "description": "",
   "help": ""
  }
 ],
 "rasterTypeInfos": [
  {
   "name": "Raster Dataset",
   "description": "Supports all ArcGIS Raster Datasets",
   "help": ""
  }
 ],
 "mensurationCapabilities": "Basic",
 "hasHistograms": true,
 "hasColormap": false,
 "hasRasterAttributeTable": false,
 "minScale": 0,
 "maxScale": 0,
 "exportTilesAllowed": false,
 "supportsStatistics": false,
 "supportsAdvancedQueries": false,
 "editFieldsInfo": null,
 "ownershipBasedAccessControlForRasters": null,
 "allowComputeTiePoints": false,
 "useStandardizedQueries": true,
 "advancedQueryCapabilities": {
  "useStandardizedQueries": true,
  "supportsStatistics": false,
  "supportsOrderBy": false,
  "supportsDistinct": false,
  "supportsPagination": false
 },
 "spatialReference": {
  "wkid": 4326,
  "latestWkid": 4326
 }
}
