View In:
ArcGIS JavaScript
ArcGIS Online Map Viewer
ArcGIS Earth
Service Description: agsmap029961_tif
Name: agsmap029961_tif
Description:
Single Fused Map Cache: false
Extent:
XMin: -89.72177868307764
YMin: 12.253998417116764
XMax: -83.2053312383789
YMax: 16.657282435099937
Spatial Reference: 4326
(4326)
LatestVCSWkid(0)
Initial Extent:
XMin: -89.72177868307764
YMin: 12.253998417116764
XMax: -83.2053312383789
YMax: 16.657282435099937
Spatial Reference: 4326
(4326)
LatestVCSWkid(0)
Full Extent:
XMin: -89.72177868307764
YMin: 12.253998417116764
XMax: -83.2053312383789
YMax: 16.657282435099937
Spatial Reference: 4326
(4326)
LatestVCSWkid(0)
Pixel Size X: 5.935914961467245E-4
Pixel Size Y: 5.883597030976982E-4
Band Count: 3
Pixel Type: U8
RasterFunction Infos: {"rasterFunctionInfos": [{
"name": "None",
"description": "",
"help": ""
}]}
Mensuration Capabilities: Basic
Has Histograms: true
Has Colormap: false
Has Multi Dimensions : false
Rendering Rule:
Min Scale: 0
Max Scale: 0
Copyright Text:
Service Data Type: esriImageServiceDataTypeRGB
Min Values: 5, 3, 7
Max Values: 255, 255, 255
Mean Values: 174.6815802661, 168.73803080864, 155.35158755876
Standard Deviation Values: 34.170270857913, 31.49095618679, 25.66464211188
Object ID Field:
Fields:
None
Default Mosaic Method: Center
Allowed Mosaic Methods:
SortField:
SortValue: null
Mosaic Operator: First
Default Compression Quality: 75
Default Resampling Method: Bilinear
Max Record Count: null
Max Image Height: 4100
Max Image Width: 15000
Max Download Image Count: null
Max Mosaic Image Count: null
Allow Raster Function: true
Allow Copy: true
Allow Analysis: true
Allow Compute TiePoints: false
Supports Statistics: false
Supports Advanced Queries: false
Use StandardizedQueries: true
Raster Type Infos:
Name: Raster Dataset
Description: Supports all ArcGIS Raster Datasets
Help:
Has Raster Attribute Table: false
Edit Fields Info: null
Ownership Based AccessControl For Rasters: null
Child Resources:
Info
Histograms
Statistics
Key Properties
Legend
Raster Function Infos
Supported Operations:
Export Image
Identify
Measure
Compute Histograms
Compute Statistics Histograms
Get Samples
Compute Class Statistics
Query Boundary
Compute Pixel Location
Compute Angles
Validate
Project