{
 "currentVersion": 11.1,
 "serviceDescription": "agsmap029961_tif",
 "name": "agsmap029961_tif",
 "description": "",
 "extent": {
  "xmin": -89.72177868307764,
  "ymin": 12.253998417116764,
  "xmax": -83.2053312383789,
  "ymax": 16.657282435099937,
  "spatialReference": {
   "wkid": 4326,
   "latestWkid": 4326
  }
 },
 "initialExtent": {
  "xmin": -89.72177868307764,
  "ymin": 12.253998417116764,
  "xmax": -83.2053312383789,
  "ymax": 16.657282435099937,
  "spatialReference": {
   "wkid": 4326,
   "latestWkid": 4326
  }
 },
 "fullExtent": {
  "xmin": -89.72177868307764,
  "ymin": 12.253998417116764,
  "xmax": -83.2053312383789,
  "ymax": 16.657282435099937,
  "spatialReference": {
   "wkid": 4326,
   "latestWkid": 4326
  }
 },
 "sortableFields": "",
 "bandCount": 3,
 "pixelType": "U8",
 "minValues": [
  5,
  3,
  7
 ],
 "maxValues": [
  255,
  255,
  255
 ],
 "meanValues": [
  174.6815802661,
  168.73803080864,
  155.35158755876
 ],
 "stdvValues": [
  34.170270857913,
  31.49095618679,
  25.66464211188
 ],
 "hasMultidimensions": false,
 "pixelSizeX": 5.935914961467245E-4,
 "pixelSizeY": 5.883597030976982E-4,
 "datasetFormat": "TIFF",
 "uncompressedSize": 246478056,
 "blockWidth": 10978,
 "blockHeight": 1,
 "compressionType": "None",
 "bandNames": [
  "Band_1",
  "Band_2",
  "Band_3"
 ],
 "allowCopy": true,
 "allowAnalysis": true,
 "itemAccess": false,
 "minPixelSize": 0,
 "maxPixelSize": 0,
 "copyrightText": "",
 "serviceDataType": "esriImageServiceDataTypeRGB",
 "serviceSourceType": "esriImageServiceSourceTypeDataset",
 "objectIdField": "",
 "fields": [],
 "capabilities": "Image,Metadata,Mensuration",
 "defaultMosaicMethod": "Center",
 "allowedMosaicMethods": "",
 "sortField": "",
 "sortValue": null,
 "sortAscending": true,
 "mosaicOperator": "First",
 "defaultCompressionQuality": 75,
 "defaultResamplingMethod": "Bilinear",
 "maxImageHeight": 4100,
 "maxImageWidth": 15000,
 "allowRasterFunction": true,
 "rasterFunctionInfos": [
  {
   "name": "None",
   "description": "",
   "help": ""
  }
 ],
 "rasterTypeInfos": [
  {
   "name": "Raster Dataset",
   "description": "Supports all ArcGIS Raster Datasets",
   "help": ""
  }
 ],
 "mensurationCapabilities": "Basic",
 "hasHistograms": true,
 "hasColormap": false,
 "hasRasterAttributeTable": false,
 "minScale": 0,
 "maxScale": 0,
 "exportTilesAllowed": false,
 "supportsStatistics": false,
 "supportsAdvancedQueries": false,
 "editFieldsInfo": null,
 "ownershipBasedAccessControlForRasters": null,
 "allowComputeTiePoints": false,
 "useStandardizedQueries": true,
 "advancedQueryCapabilities": {
  "useStandardizedQueries": true,
  "supportsStatistics": false,
  "supportsOrderBy": false,
  "supportsDistinct": false,
  "supportsPagination": false
 },
 "spatialReference": {
  "wkid": 4326,
  "latestWkid": 4326
 }
}
