View In:
ArcGIS JavaScript
ArcGIS Online Map Viewer
ArcGIS Earth
Service Description: agsmap029889_tif
Name: agsmap029889_tif
Description:
Single Fused Map Cache: false
Extent:
XMin: -92.57698785767992
YMin: 12.631649316206202
XMax: -86.70951388948392
YMax: 18.14084564425033
Spatial Reference: 4326
(4326)
LatestVCSWkid(0)
Initial Extent:
XMin: -92.57698785767992
YMin: 12.631649316206202
XMax: -86.70951388948392
YMax: 18.14084564425033
Spatial Reference: 4326
(4326)
LatestVCSWkid(0)
Full Extent:
XMin: -92.57698785767992
YMin: 12.631649316206202
XMax: -86.70951388948392
YMax: 18.14084564425033
Spatial Reference: 4326
(4326)
LatestVCSWkid(0)
Pixel Size X: 4.5190033642914423E-4
Pixel Size Y: 4.554937021946365E-4
Band Count: 3
Pixel Type: U8
RasterFunction Infos: {"rasterFunctionInfos": [{
"name": "None",
"description": "",
"help": ""
}]}
Mensuration Capabilities: Basic
Has Histograms: true
Has Colormap: false
Has Multi Dimensions : false
Rendering Rule:
Min Scale: 0
Max Scale: 0
Copyright Text:
Service Data Type: esriImageServiceDataTypeRGB
Min Values: 8, 1, 4
Max Values: 248, 236, 217
Mean Values: 203.05580710285, 182.30894479589, 157.88084896435
Standard Deviation Values: 16.932544152771, 17.761875063514, 13.597739223987
Object ID Field:
Fields:
None
Default Mosaic Method: Center
Allowed Mosaic Methods:
SortField:
SortValue: null
Mosaic Operator: First
Default Compression Quality: 75
Default Resampling Method: Bilinear
Max Record Count: null
Max Image Height: 4100
Max Image Width: 15000
Max Download Image Count: null
Max Mosaic Image Count: null
Allow Raster Function: true
Allow Copy: true
Allow Analysis: true
Allow Compute TiePoints: false
Supports Statistics: false
Supports Advanced Queries: false
Use StandardizedQueries: true
Raster Type Infos:
Name: Raster Dataset
Description: Supports all ArcGIS Raster Datasets
Help:
Has Raster Attribute Table: false
Edit Fields Info: null
Ownership Based AccessControl For Rasters: null
Child Resources:
Info
Histograms
Statistics
Key Properties
Legend
Raster Function Infos
Supported Operations:
Export Image
Identify
Measure
Compute Histograms
Compute Statistics Histograms
Get Samples
Compute Class Statistics
Query Boundary
Compute Pixel Location
Compute Angles
Validate
Project