{
 "currentVersion": 11.1,
 "serviceDescription": "agsmap029889_tif",
 "name": "agsmap029889_tif",
 "description": "",
 "extent": {
  "xmin": -92.57698785767992,
  "ymin": 12.631649316206202,
  "xmax": -86.70951388948392,
  "ymax": 18.14084564425033,
  "spatialReference": {
   "wkid": 4326,
   "latestWkid": 4326
  }
 },
 "initialExtent": {
  "xmin": -92.57698785767992,
  "ymin": 12.631649316206202,
  "xmax": -86.70951388948392,
  "ymax": 18.14084564425033,
  "spatialReference": {
   "wkid": 4326,
   "latestWkid": 4326
  }
 },
 "fullExtent": {
  "xmin": -92.57698785767992,
  "ymin": 12.631649316206202,
  "xmax": -86.70951388948392,
  "ymax": 18.14084564425033,
  "spatialReference": {
   "wkid": 4326,
   "latestWkid": 4326
  }
 },
 "sortableFields": "",
 "bandCount": 3,
 "pixelType": "U8",
 "minValues": [
  8,
  1,
  4
 ],
 "maxValues": [
  248,
  236,
  217
 ],
 "meanValues": [
  203.05580710285,
  182.30894479589,
  157.88084896435
 ],
 "stdvValues": [
  16.932544152771,
  17.761875063514,
  13.597739223987
 ],
 "hasMultidimensions": false,
 "pixelSizeX": 4.5190033642914423E-4,
 "pixelSizeY": 4.554937021946365E-4,
 "datasetFormat": "TIFF",
 "uncompressedSize": 471124440,
 "blockWidth": 12984,
 "blockHeight": 1,
 "compressionType": "None",
 "bandNames": [
  "Band_1",
  "Band_2",
  "Band_3"
 ],
 "allowCopy": true,
 "allowAnalysis": true,
 "itemAccess": false,
 "minPixelSize": 0,
 "maxPixelSize": 0,
 "copyrightText": "",
 "serviceDataType": "esriImageServiceDataTypeRGB",
 "serviceSourceType": "esriImageServiceSourceTypeDataset",
 "objectIdField": "",
 "fields": [],
 "capabilities": "Image,Metadata,Mensuration",
 "defaultMosaicMethod": "Center",
 "allowedMosaicMethods": "",
 "sortField": "",
 "sortValue": null,
 "sortAscending": true,
 "mosaicOperator": "First",
 "defaultCompressionQuality": 75,
 "defaultResamplingMethod": "Bilinear",
 "maxImageHeight": 4100,
 "maxImageWidth": 15000,
 "allowRasterFunction": true,
 "rasterFunctionInfos": [
  {
   "name": "None",
   "description": "",
   "help": ""
  }
 ],
 "rasterTypeInfos": [
  {
   "name": "Raster Dataset",
   "description": "Supports all ArcGIS Raster Datasets",
   "help": ""
  }
 ],
 "mensurationCapabilities": "Basic",
 "hasHistograms": true,
 "hasColormap": false,
 "hasRasterAttributeTable": false,
 "minScale": 0,
 "maxScale": 0,
 "exportTilesAllowed": false,
 "supportsStatistics": false,
 "supportsAdvancedQueries": false,
 "editFieldsInfo": null,
 "ownershipBasedAccessControlForRasters": null,
 "allowComputeTiePoints": false,
 "useStandardizedQueries": true,
 "advancedQueryCapabilities": {
  "useStandardizedQueries": true,
  "supportsStatistics": false,
  "supportsOrderBy": false,
  "supportsDistinct": false,
  "supportsPagination": false
 },
 "spatialReference": {
  "wkid": 4326,
  "latestWkid": 4326
 }
}
