View In:
ArcGIS JavaScript
ArcGIS Online Map Viewer
ArcGIS Earth
Service Description: agsmap029881_tif
Name: agsmap029881_tif
Description:
Single Fused Map Cache: false
Extent:
XMin: -90.30940248661547
YMin: 12.90384037171101
XMax: -87.53887321451712
YMax: 14.623683586285493
Spatial Reference: 4326
(4326)
LatestVCSWkid(0)
Initial Extent:
XMin: -90.30940248661547
YMin: 12.90384037171101
XMax: -87.53887321451712
YMax: 14.623683586285493
Spatial Reference: 4326
(4326)
LatestVCSWkid(0)
Full Extent:
XMin: -90.30940248661547
YMin: 12.90384037171101
XMax: -87.53887321451712
YMax: 14.623683586285493
Spatial Reference: 4326
(4326)
LatestVCSWkid(0)
Pixel Size X: 2.991286193153038E-4
Pixel Size Y: 2.928888308199052E-4
Band Count: 3
Pixel Type: U8
RasterFunction Infos: {"rasterFunctionInfos": [{
"name": "None",
"description": "",
"help": ""
}]}
Mensuration Capabilities: Basic
Has Histograms: true
Has Colormap: false
Has Multi Dimensions : false
Rendering Rule:
Min Scale: 0
Max Scale: 0
Copyright Text:
Service Data Type: esriImageServiceDataTypeRGB
Min Values: 1, 0, 14
Max Values: 252, 245, 238
Mean Values: 211.00190527191, 205.25867208428, 202.203646867
Standard Deviation Values: 27.53152680007, 27.335091097171, 19.703409271235
Object ID Field:
Fields:
None
Default Mosaic Method: Center
Allowed Mosaic Methods:
SortField:
SortValue: null
Mosaic Operator: First
Default Compression Quality: 75
Default Resampling Method: Bilinear
Max Record Count: null
Max Image Height: 4100
Max Image Width: 15000
Max Download Image Count: null
Max Mosaic Image Count: null
Allow Raster Function: true
Allow Copy: true
Allow Analysis: true
Allow Compute TiePoints: false
Supports Statistics: false
Supports Advanced Queries: false
Use StandardizedQueries: true
Raster Type Infos:
Name: Raster Dataset
Description: Supports all ArcGIS Raster Datasets
Help:
Has Raster Attribute Table: false
Edit Fields Info: null
Ownership Based AccessControl For Rasters: null
Child Resources:
Info
Histograms
Statistics
Key Properties
Legend
Raster Function Infos
Supported Operations:
Export Image
Identify
Measure
Compute Histograms
Compute Statistics Histograms
Get Samples
Compute Class Statistics
Query Boundary
Compute Pixel Location
Compute Angles
Validate
Project