{
 "currentVersion": 11.1,
 "serviceDescription": "agsmap029881_tif",
 "name": "agsmap029881_tif",
 "description": "",
 "extent": {
  "xmin": -90.30940248661547,
  "ymin": 12.90384037171101,
  "xmax": -87.53887321451712,
  "ymax": 14.623683586285493,
  "spatialReference": {
   "wkid": 4326,
   "latestWkid": 4326
  }
 },
 "initialExtent": {
  "xmin": -90.30940248661547,
  "ymin": 12.90384037171101,
  "xmax": -87.53887321451712,
  "ymax": 14.623683586285493,
  "spatialReference": {
   "wkid": 4326,
   "latestWkid": 4326
  }
 },
 "fullExtent": {
  "xmin": -90.30940248661547,
  "ymin": 12.90384037171101,
  "xmax": -87.53887321451712,
  "ymax": 14.623683586285493,
  "spatialReference": {
   "wkid": 4326,
   "latestWkid": 4326
  }
 },
 "sortableFields": "",
 "bandCount": 3,
 "pixelType": "U8",
 "minValues": [
  1,
  0,
  14
 ],
 "maxValues": [
  252,
  245,
  238
 ],
 "meanValues": [
  211.00190527191,
  205.25867208428,
  202.203646867
 ],
 "stdvValues": [
  27.53152680007,
  27.335091097171,
  19.703409271235
 ],
 "hasMultidimensions": false,
 "pixelSizeX": 2.991286193153038E-4,
 "pixelSizeY": 2.928888308199052E-4,
 "datasetFormat": "TIFF",
 "uncompressedSize": 163159392,
 "blockWidth": 9262,
 "blockHeight": 1,
 "compressionType": "None",
 "bandNames": [
  "Band_1",
  "Band_2",
  "Band_3"
 ],
 "allowCopy": true,
 "allowAnalysis": true,
 "itemAccess": false,
 "minPixelSize": 0,
 "maxPixelSize": 0,
 "copyrightText": "",
 "serviceDataType": "esriImageServiceDataTypeRGB",
 "serviceSourceType": "esriImageServiceSourceTypeDataset",
 "objectIdField": "",
 "fields": [],
 "capabilities": "Image,Metadata,Mensuration",
 "defaultMosaicMethod": "Center",
 "allowedMosaicMethods": "",
 "sortField": "",
 "sortValue": null,
 "sortAscending": true,
 "mosaicOperator": "First",
 "defaultCompressionQuality": 75,
 "defaultResamplingMethod": "Bilinear",
 "maxImageHeight": 4100,
 "maxImageWidth": 15000,
 "allowRasterFunction": true,
 "rasterFunctionInfos": [
  {
   "name": "None",
   "description": "",
   "help": ""
  }
 ],
 "rasterTypeInfos": [
  {
   "name": "Raster Dataset",
   "description": "Supports all ArcGIS Raster Datasets",
   "help": ""
  }
 ],
 "mensurationCapabilities": "Basic",
 "hasHistograms": true,
 "hasColormap": false,
 "hasRasterAttributeTable": false,
 "minScale": 0,
 "maxScale": 0,
 "exportTilesAllowed": false,
 "supportsStatistics": false,
 "supportsAdvancedQueries": false,
 "editFieldsInfo": null,
 "ownershipBasedAccessControlForRasters": null,
 "allowComputeTiePoints": false,
 "useStandardizedQueries": true,
 "advancedQueryCapabilities": {
  "useStandardizedQueries": true,
  "supportsStatistics": false,
  "supportsOrderBy": false,
  "supportsDistinct": false,
  "supportsPagination": false
 },
 "spatialReference": {
  "wkid": 4326,
  "latestWkid": 4326
 }
}
