View In:
ArcGIS JavaScript
ArcGIS Online Map Viewer
ArcGIS Earth
Service Description: agsmap029878_tif
Name: agsmap029878_tif
Description:
Single Fused Map Cache: false
Extent:
XMin: -92.47112292491796
YMin: 13.457408444936567
XMax: -87.84537049595238
YMax: 18.18607729130333
Spatial Reference: 4326
(4326)
LatestVCSWkid(0)
Initial Extent:
XMin: -92.47112292491796
YMin: 13.457408444936567
XMax: -87.84537049595238
YMax: 18.18607729130333
Spatial Reference: 4326
(4326)
LatestVCSWkid(0)
Full Extent:
XMin: -92.47112292491796
YMin: 13.457408444936567
XMax: -87.84537049595238
YMax: 18.18607729130333
Spatial Reference: 4326
(4326)
LatestVCSWkid(0)
Pixel Size X: 4.6687045104618324E-4
Pixel Size Y: 4.541992936669642E-4
Band Count: 3
Pixel Type: U8
RasterFunction Infos: {"rasterFunctionInfos": [{
"name": "None",
"description": "",
"help": ""
}]}
Mensuration Capabilities: Basic
Has Histograms: true
Has Colormap: false
Has Multi Dimensions : false
Rendering Rule:
Min Scale: 0
Max Scale: 0
Copyright Text:
Service Data Type: esriImageServiceDataTypeRGB
Min Values: 15, 17, 7
Max Values: 255, 255, 253
Mean Values: 217.73330347583, 202.0963312771, 171.28721000077
Standard Deviation Values: 42.785936956308, 43.214660717793, 40.08396848812
Object ID Field:
Fields:
None
Default Mosaic Method: Center
Allowed Mosaic Methods:
SortField:
SortValue: null
Mosaic Operator: First
Default Compression Quality: 75
Default Resampling Method: Bilinear
Max Record Count: null
Max Image Height: 4100
Max Image Width: 15000
Max Download Image Count: null
Max Mosaic Image Count: null
Allow Raster Function: true
Allow Copy: true
Allow Analysis: true
Allow Compute TiePoints: false
Supports Statistics: false
Supports Advanced Queries: false
Use StandardizedQueries: true
Raster Type Infos:
Name: Raster Dataset
Description: Supports all ArcGIS Raster Datasets
Help:
Has Raster Attribute Table: false
Edit Fields Info: null
Ownership Based AccessControl For Rasters: null
Child Resources:
Info
Histograms
Statistics
Key Properties
Legend
Raster Function Infos
Supported Operations:
Export Image
Identify
Measure
Compute Histograms
Compute Statistics Histograms
Get Samples
Compute Class Statistics
Query Boundary
Compute Pixel Location
Compute Angles
Validate
Project