{
 "currentVersion": 11.1,
 "serviceDescription": "agsmap029878_tif",
 "name": "agsmap029878_tif",
 "description": "",
 "extent": {
  "xmin": -92.47112292491796,
  "ymin": 13.457408444936567,
  "xmax": -87.84537049595238,
  "ymax": 18.18607729130333,
  "spatialReference": {
   "wkid": 4326,
   "latestWkid": 4326
  }
 },
 "initialExtent": {
  "xmin": -92.47112292491796,
  "ymin": 13.457408444936567,
  "xmax": -87.84537049595238,
  "ymax": 18.18607729130333,
  "spatialReference": {
   "wkid": 4326,
   "latestWkid": 4326
  }
 },
 "fullExtent": {
  "xmin": -92.47112292491796,
  "ymin": 13.457408444936567,
  "xmax": -87.84537049595238,
  "ymax": 18.18607729130333,
  "spatialReference": {
   "wkid": 4326,
   "latestWkid": 4326
  }
 },
 "sortableFields": "",
 "bandCount": 3,
 "pixelType": "U8",
 "minValues": [
  15,
  17,
  7
 ],
 "maxValues": [
  255,
  255,
  253
 ],
 "meanValues": [
  217.73330347583,
  202.0963312771,
  171.28721000077
 ],
 "stdvValues": [
  42.785936956308,
  43.214660717793,
  40.08396848812
 ],
 "hasMultidimensions": false,
 "pixelSizeX": 4.6687045104618324E-4,
 "pixelSizeY": 4.541992936669642E-4,
 "datasetFormat": "TIFF",
 "uncompressedSize": 309456564,
 "blockWidth": 9908,
 "blockHeight": 1,
 "compressionType": "None",
 "bandNames": [
  "Band_1",
  "Band_2",
  "Band_3"
 ],
 "allowCopy": true,
 "allowAnalysis": true,
 "itemAccess": false,
 "minPixelSize": 0,
 "maxPixelSize": 0,
 "copyrightText": "",
 "serviceDataType": "esriImageServiceDataTypeRGB",
 "serviceSourceType": "esriImageServiceSourceTypeDataset",
 "objectIdField": "",
 "fields": [],
 "capabilities": "Image,Metadata,Mensuration",
 "defaultMosaicMethod": "Center",
 "allowedMosaicMethods": "",
 "sortField": "",
 "sortValue": null,
 "sortAscending": true,
 "mosaicOperator": "First",
 "defaultCompressionQuality": 75,
 "defaultResamplingMethod": "Bilinear",
 "maxImageHeight": 4100,
 "maxImageWidth": 15000,
 "allowRasterFunction": true,
 "rasterFunctionInfos": [
  {
   "name": "None",
   "description": "",
   "help": ""
  }
 ],
 "rasterTypeInfos": [
  {
   "name": "Raster Dataset",
   "description": "Supports all ArcGIS Raster Datasets",
   "help": ""
  }
 ],
 "mensurationCapabilities": "Basic",
 "hasHistograms": true,
 "hasColormap": false,
 "hasRasterAttributeTable": false,
 "minScale": 0,
 "maxScale": 0,
 "exportTilesAllowed": false,
 "supportsStatistics": false,
 "supportsAdvancedQueries": false,
 "editFieldsInfo": null,
 "ownershipBasedAccessControlForRasters": null,
 "allowComputeTiePoints": false,
 "useStandardizedQueries": true,
 "advancedQueryCapabilities": {
  "useStandardizedQueries": true,
  "supportsStatistics": false,
  "supportsOrderBy": false,
  "supportsDistinct": false,
  "supportsPagination": false
 },
 "spatialReference": {
  "wkid": 4326,
  "latestWkid": 4326
 }
}
