View In:
ArcGIS JavaScript
ArcGIS Online Map Viewer
ArcGIS Earth
Service Description: agsmap029870_tif
Name: agsmap029870_tif
Description:
Single Fused Map Cache: false
Extent:
XMin: -86.4303680574361
YMin: 7.473777706470435
XMax: -80.38403342277597
YMax: 11.806184517275948
Spatial Reference: 4326
(4326)
LatestVCSWkid(0)
Initial Extent:
XMin: -86.4303680574361
YMin: 7.473777706470435
XMax: -80.38403342277597
YMax: 11.806184517275948
Spatial Reference: 4326
(4326)
LatestVCSWkid(0)
Full Extent:
XMin: -86.4303680574361
YMin: 7.473777706470435
XMax: -80.38403342277597
YMax: 11.806184517275948
Spatial Reference: 4326
(4326)
LatestVCSWkid(0)
Pixel Size X: 7.690580812337989E-4
Pixel Size Y: 7.881402239049506E-4
Band Count: 3
Pixel Type: U8
RasterFunction Infos: {"rasterFunctionInfos": [{
"name": "None",
"description": "",
"help": ""
}]}
Mensuration Capabilities: Basic
Has Histograms: true
Has Colormap: false
Has Multi Dimensions : false
Rendering Rule:
Min Scale: 0
Max Scale: 0
Copyright Text:
Service Data Type: esriImageServiceDataTypeRGB
Min Values: 0, 0, 5
Max Values: 255, 254, 253
Mean Values: 202.0823844296, 205.68101080735, 180.77752981703
Standard Deviation Values: 35.336234005815, 34.719942876438, 31.77577998934
Object ID Field:
Fields:
None
Default Mosaic Method: Center
Allowed Mosaic Methods:
SortField:
SortValue: null
Mosaic Operator: First
Default Compression Quality: 75
Default Resampling Method: Bilinear
Max Record Count: null
Max Image Height: 4100
Max Image Width: 15000
Max Download Image Count: null
Max Mosaic Image Count: null
Allow Raster Function: true
Allow Copy: true
Allow Analysis: true
Allow Compute TiePoints: false
Supports Statistics: false
Supports Advanced Queries: false
Use StandardizedQueries: true
Raster Type Infos:
Name: Raster Dataset
Description: Supports all ArcGIS Raster Datasets
Help:
Has Raster Attribute Table: false
Edit Fields Info: null
Ownership Based AccessControl For Rasters: null
Child Resources:
Info
Histograms
Statistics
Key Properties
Legend
Raster Function Infos
Supported Operations:
Export Image
Identify
Measure
Compute Histograms
Compute Statistics Histograms
Get Samples
Compute Class Statistics
Query Boundary
Compute Pixel Location
Compute Angles
Validate
Project