{
 "currentVersion": 11.1,
 "serviceDescription": "agsmap029870_tif",
 "name": "agsmap029870_tif",
 "description": "",
 "extent": {
  "xmin": -86.4303680574361,
  "ymin": 7.473777706470435,
  "xmax": -80.38403342277597,
  "ymax": 11.806184517275948,
  "spatialReference": {
   "wkid": 4326,
   "latestWkid": 4326
  }
 },
 "initialExtent": {
  "xmin": -86.4303680574361,
  "ymin": 7.473777706470435,
  "xmax": -80.38403342277597,
  "ymax": 11.806184517275948,
  "spatialReference": {
   "wkid": 4326,
   "latestWkid": 4326
  }
 },
 "fullExtent": {
  "xmin": -86.4303680574361,
  "ymin": 7.473777706470435,
  "xmax": -80.38403342277597,
  "ymax": 11.806184517275948,
  "spatialReference": {
   "wkid": 4326,
   "latestWkid": 4326
  }
 },
 "sortableFields": "",
 "bandCount": 3,
 "pixelType": "U8",
 "minValues": [
  0,
  0,
  5
 ],
 "maxValues": [
  255,
  254,
  253
 ],
 "meanValues": [
  202.0823844296,
  205.68101080735,
  180.77752981703
 ],
 "stdvValues": [
  35.336234005815,
  34.719942876438,
  31.77577998934
 ],
 "hasMultidimensions": false,
 "pixelSizeX": 7.690580812337989E-4,
 "pixelSizeY": 7.881402239049506E-4,
 "datasetFormat": "TIFF",
 "uncompressedSize": 129652242,
 "blockWidth": 7862,
 "blockHeight": 1,
 "compressionType": "None",
 "bandNames": [
  "Band_1",
  "Band_2",
  "Band_3"
 ],
 "allowCopy": true,
 "allowAnalysis": true,
 "itemAccess": false,
 "minPixelSize": 0,
 "maxPixelSize": 0,
 "copyrightText": "",
 "serviceDataType": "esriImageServiceDataTypeRGB",
 "serviceSourceType": "esriImageServiceSourceTypeDataset",
 "objectIdField": "",
 "fields": [],
 "capabilities": "Image,Metadata,Mensuration",
 "defaultMosaicMethod": "Center",
 "allowedMosaicMethods": "",
 "sortField": "",
 "sortValue": null,
 "sortAscending": true,
 "mosaicOperator": "First",
 "defaultCompressionQuality": 75,
 "defaultResamplingMethod": "Bilinear",
 "maxImageHeight": 4100,
 "maxImageWidth": 15000,
 "allowRasterFunction": true,
 "rasterFunctionInfos": [
  {
   "name": "None",
   "description": "",
   "help": ""
  }
 ],
 "rasterTypeInfos": [
  {
   "name": "Raster Dataset",
   "description": "Supports all ArcGIS Raster Datasets",
   "help": ""
  }
 ],
 "mensurationCapabilities": "Basic",
 "hasHistograms": true,
 "hasColormap": false,
 "hasRasterAttributeTable": false,
 "minScale": 0,
 "maxScale": 0,
 "exportTilesAllowed": false,
 "supportsStatistics": false,
 "supportsAdvancedQueries": false,
 "editFieldsInfo": null,
 "ownershipBasedAccessControlForRasters": null,
 "allowComputeTiePoints": false,
 "useStandardizedQueries": true,
 "advancedQueryCapabilities": {
  "useStandardizedQueries": true,
  "supportsStatistics": false,
  "supportsOrderBy": false,
  "supportsDistinct": false,
  "supportsPagination": false
 },
 "spatialReference": {
  "wkid": 4326,
  "latestWkid": 4326
 }
}
