View In:
ArcGIS JavaScript
ArcGIS Online Map Viewer
ArcGIS Earth
Service Description: agsmap029858_tif
Name: agsmap029858_tif
Description:
Single Fused Map Cache: false
Extent:
XMin: -86.21811900284628
YMin: 7.806294904913612
XMax: -82.25445218182031
YMax: 11.688315399021832
Spatial Reference: 4326
(4326)
LatestVCSWkid(0)
Initial Extent:
XMin: -86.21811900284628
YMin: 7.806294904913612
XMax: -82.25445218182031
YMax: 11.688315399021832
Spatial Reference: 4326
(4326)
LatestVCSWkid(0)
Full Extent:
XMin: -86.21811900284628
YMin: 7.806294904913612
XMax: -82.25445218182031
YMax: 11.688315399021832
Spatial Reference: 4326
(4326)
LatestVCSWkid(0)
Pixel Size X: 2.9273757910088384E-4
Pixel Size Y: 2.8694068254181534E-4
Band Count: 3
Pixel Type: U8
RasterFunction Infos: {"rasterFunctionInfos": [{
"name": "None",
"description": "",
"help": ""
}]}
Mensuration Capabilities: Basic
Has Histograms: true
Has Colormap: false
Has Multi Dimensions : false
Rendering Rule:
Min Scale: 0
Max Scale: 0
Copyright Text:
Service Data Type: esriImageServiceDataTypeRGB
Min Values: 22, 5, 4
Max Values: 255, 255, 255
Mean Values: 214.31925836767, 209.14448100608, 196.16710764539
Standard Deviation Values: 37.391837988866, 41.02058187265, 39.606535023422
Object ID Field:
Fields:
None
Default Mosaic Method: Center
Allowed Mosaic Methods:
SortField:
SortValue: null
Mosaic Operator: First
Default Compression Quality: 75
Default Resampling Method: Bilinear
Max Record Count: null
Max Image Height: 4100
Max Image Width: 15000
Max Download Image Count: null
Max Mosaic Image Count: null
Allow Raster Function: true
Allow Copy: true
Allow Analysis: true
Allow Compute TiePoints: false
Supports Statistics: false
Supports Advanced Queries: false
Use StandardizedQueries: true
Raster Type Infos:
Name: Raster Dataset
Description: Supports all ArcGIS Raster Datasets
Help:
Has Raster Attribute Table: false
Edit Fields Info: null
Ownership Based AccessControl For Rasters: null
Child Resources:
Info
Histograms
Statistics
Key Properties
Legend
Raster Function Infos
Supported Operations:
Export Image
Identify
Measure
Compute Histograms
Compute Statistics Histograms
Get Samples
Compute Class Statistics
Query Boundary
Compute Pixel Location
Compute Angles
Validate
Project