{
 "currentVersion": 11.1,
 "serviceDescription": "agsmap029858_tif",
 "name": "agsmap029858_tif",
 "description": "",
 "extent": {
  "xmin": -86.21811900284628,
  "ymin": 7.806294904913612,
  "xmax": -82.25445218182031,
  "ymax": 11.688315399021832,
  "spatialReference": {
   "wkid": 4326,
   "latestWkid": 4326
  }
 },
 "initialExtent": {
  "xmin": -86.21811900284628,
  "ymin": 7.806294904913612,
  "xmax": -82.25445218182031,
  "ymax": 11.688315399021832,
  "spatialReference": {
   "wkid": 4326,
   "latestWkid": 4326
  }
 },
 "fullExtent": {
  "xmin": -86.21811900284628,
  "ymin": 7.806294904913612,
  "xmax": -82.25445218182031,
  "ymax": 11.688315399021832,
  "spatialReference": {
   "wkid": 4326,
   "latestWkid": 4326
  }
 },
 "sortableFields": "",
 "bandCount": 3,
 "pixelType": "U8",
 "minValues": [
  22,
  5,
  4
 ],
 "maxValues": [
  255,
  255,
  255
 ],
 "meanValues": [
  214.31925836767,
  209.14448100608,
  196.16710764539
 ],
 "stdvValues": [
  37.391837988866,
  41.02058187265,
  39.606535023422
 ],
 "hasMultidimensions": false,
 "pixelSizeX": 2.9273757910088384E-4,
 "pixelSizeY": 2.8694068254181534E-4,
 "datasetFormat": "TIFF",
 "uncompressedSize": 549547980,
 "blockWidth": 13540,
 "blockHeight": 1,
 "compressionType": "None",
 "bandNames": [
  "Band_1",
  "Band_2",
  "Band_3"
 ],
 "allowCopy": true,
 "allowAnalysis": true,
 "itemAccess": false,
 "minPixelSize": 0,
 "maxPixelSize": 0,
 "copyrightText": "",
 "serviceDataType": "esriImageServiceDataTypeRGB",
 "serviceSourceType": "esriImageServiceSourceTypeDataset",
 "objectIdField": "",
 "fields": [],
 "capabilities": "Image,Metadata,Mensuration",
 "defaultMosaicMethod": "Center",
 "allowedMosaicMethods": "",
 "sortField": "",
 "sortValue": null,
 "sortAscending": true,
 "mosaicOperator": "First",
 "defaultCompressionQuality": 75,
 "defaultResamplingMethod": "Bilinear",
 "maxImageHeight": 4100,
 "maxImageWidth": 15000,
 "allowRasterFunction": true,
 "rasterFunctionInfos": [
  {
   "name": "None",
   "description": "",
   "help": ""
  }
 ],
 "rasterTypeInfos": [
  {
   "name": "Raster Dataset",
   "description": "Supports all ArcGIS Raster Datasets",
   "help": ""
  }
 ],
 "mensurationCapabilities": "Basic",
 "hasHistograms": true,
 "hasColormap": false,
 "hasRasterAttributeTable": false,
 "minScale": 0,
 "maxScale": 0,
 "exportTilesAllowed": false,
 "supportsStatistics": false,
 "supportsAdvancedQueries": false,
 "editFieldsInfo": null,
 "ownershipBasedAccessControlForRasters": null,
 "allowComputeTiePoints": false,
 "useStandardizedQueries": true,
 "advancedQueryCapabilities": {
  "useStandardizedQueries": true,
  "supportsStatistics": false,
  "supportsOrderBy": false,
  "supportsDistinct": false,
  "supportsPagination": false
 },
 "spatialReference": {
  "wkid": 4326,
  "latestWkid": 4326
 }
}
