View In:
ArcGIS JavaScript
ArcGIS Online Map Viewer
ArcGIS Earth
Service Description: agsmap029857_tif
Name: agsmap029857_tif
Description:
Single Fused Map Cache: false
Extent:
XMin: -80.1067447276999
YMin: 8.8258799578374
XMax: -79.355697319634
YMax: 9.434208418222228
Spatial Reference: 4326
(4326)
LatestVCSWkid(0)
Initial Extent:
XMin: -80.1067447276999
YMin: 8.8258799578374
XMax: -79.355697319634
YMax: 9.434208418222228
Spatial Reference: 4326
(4326)
LatestVCSWkid(0)
Full Extent:
XMin: -80.1067447276999
YMin: 8.8258799578374
XMax: -79.355697319634
YMax: 9.434208418222228
Spatial Reference: 4326
(4326)
LatestVCSWkid(0)
Pixel Size X: 1.4487797223493458E-4
Pixel Size Y: 1.4480563208398695E-4
Band Count: 3
Pixel Type: U8
RasterFunction Infos: {"rasterFunctionInfos": [{
"name": "None",
"description": "",
"help": ""
}]}
Mensuration Capabilities: Basic
Has Histograms: true
Has Colormap: false
Has Multi Dimensions : false
Rendering Rule:
Min Scale: 0
Max Scale: 0
Copyright Text:
Service Data Type: esriImageServiceDataTypeRGB
Min Values: 27, 18, 12
Max Values: 255, 255, 255
Mean Values: 195.66191016577, 198.29617883824, 181.03015807158
Standard Deviation Values: 39.532229375786, 40.128054994019, 50.90733918594
Object ID Field:
Fields:
None
Default Mosaic Method: Center
Allowed Mosaic Methods:
SortField:
SortValue: null
Mosaic Operator: First
Default Compression Quality: 75
Default Resampling Method: Bilinear
Max Record Count: null
Max Image Height: 4100
Max Image Width: 15000
Max Download Image Count: null
Max Mosaic Image Count: null
Allow Raster Function: true
Allow Copy: true
Allow Analysis: true
Allow Compute TiePoints: false
Supports Statistics: false
Supports Advanced Queries: false
Use StandardizedQueries: true
Raster Type Infos:
Name: Raster Dataset
Description: Supports all ArcGIS Raster Datasets
Help:
Has Raster Attribute Table: false
Edit Fields Info: null
Ownership Based AccessControl For Rasters: null
Child Resources:
Info
Histograms
Statistics
Key Properties
Legend
Raster Function Infos
Supported Operations:
Export Image
Identify
Measure
Compute Histograms
Compute Statistics Histograms
Get Samples
Compute Class Statistics
Query Boundary
Compute Pixel Location
Compute Angles
Validate
Project