{
 "currentVersion": 11.1,
 "serviceDescription": "agsmap029857_tif",
 "name": "agsmap029857_tif",
 "description": "",
 "extent": {
  "xmin": -80.1067447276999,
  "ymin": 8.8258799578374,
  "xmax": -79.355697319634,
  "ymax": 9.434208418222228,
  "spatialReference": {
   "wkid": 4326,
   "latestWkid": 4326
  }
 },
 "initialExtent": {
  "xmin": -80.1067447276999,
  "ymin": 8.8258799578374,
  "xmax": -79.355697319634,
  "ymax": 9.434208418222228,
  "spatialReference": {
   "wkid": 4326,
   "latestWkid": 4326
  }
 },
 "fullExtent": {
  "xmin": -80.1067447276999,
  "ymin": 8.8258799578374,
  "xmax": -79.355697319634,
  "ymax": 9.434208418222228,
  "spatialReference": {
   "wkid": 4326,
   "latestWkid": 4326
  }
 },
 "sortableFields": "",
 "bandCount": 3,
 "pixelType": "U8",
 "minValues": [
  27,
  18,
  12
 ],
 "maxValues": [
  255,
  255,
  255
 ],
 "meanValues": [
  195.66191016577,
  198.29617883824,
  181.03015807158
 ],
 "stdvValues": [
  39.532229375786,
  40.128054994019,
  50.90733918594
 ],
 "hasMultidimensions": false,
 "pixelSizeX": 1.4487797223493458E-4,
 "pixelSizeY": 1.4480563208398695E-4,
 "datasetFormat": "TIFF",
 "uncompressedSize": 65333952,
 "blockWidth": 5184,
 "blockHeight": 1,
 "compressionType": "None",
 "bandNames": [
  "Band_1",
  "Band_2",
  "Band_3"
 ],
 "allowCopy": true,
 "allowAnalysis": true,
 "itemAccess": false,
 "minPixelSize": 0,
 "maxPixelSize": 0,
 "copyrightText": "",
 "serviceDataType": "esriImageServiceDataTypeRGB",
 "serviceSourceType": "esriImageServiceSourceTypeDataset",
 "objectIdField": "",
 "fields": [],
 "capabilities": "Image,Metadata,Mensuration",
 "defaultMosaicMethod": "Center",
 "allowedMosaicMethods": "",
 "sortField": "",
 "sortValue": null,
 "sortAscending": true,
 "mosaicOperator": "First",
 "defaultCompressionQuality": 75,
 "defaultResamplingMethod": "Bilinear",
 "maxImageHeight": 4100,
 "maxImageWidth": 15000,
 "allowRasterFunction": true,
 "rasterFunctionInfos": [
  {
   "name": "None",
   "description": "",
   "help": ""
  }
 ],
 "rasterTypeInfos": [
  {
   "name": "Raster Dataset",
   "description": "Supports all ArcGIS Raster Datasets",
   "help": ""
  }
 ],
 "mensurationCapabilities": "Basic",
 "hasHistograms": true,
 "hasColormap": false,
 "hasRasterAttributeTable": false,
 "minScale": 0,
 "maxScale": 0,
 "exportTilesAllowed": false,
 "supportsStatistics": false,
 "supportsAdvancedQueries": false,
 "editFieldsInfo": null,
 "ownershipBasedAccessControlForRasters": null,
 "allowComputeTiePoints": false,
 "useStandardizedQueries": true,
 "advancedQueryCapabilities": {
  "useStandardizedQueries": true,
  "supportsStatistics": false,
  "supportsOrderBy": false,
  "supportsDistinct": false,
  "supportsPagination": false
 },
 "spatialReference": {
  "wkid": 4326,
  "latestWkid": 4326
 }
}
