View In:
ArcGIS JavaScript
ArcGIS Online Map Viewer
ArcGIS Earth
Service Description: agsmap029836_correct_tif
Name: agsmap029836_correct_tif
Description:
Single Fused Map Cache: false
Extent:
XMin: -88.26460888884367
YMin: 10.210681490775276
XMax: -82.83188393663337
YMax: 15.200907554921624
Spatial Reference: 4326
(4326)
LatestVCSWkid(0)
Initial Extent:
XMin: -88.26460888884367
YMin: 10.210681490775276
XMax: -82.83188393663337
YMax: 15.200907554921624
Spatial Reference: 4326
(4326)
LatestVCSWkid(0)
Full Extent:
XMin: -88.26460888884367
YMin: 10.210681490775276
XMax: -82.83188393663337
YMax: 15.200907554921624
Spatial Reference: 4326
(4326)
LatestVCSWkid(0)
Pixel Size X: 5.901287152085914E-4
Pixel Size Y: 5.781747264681206E-4
Band Count: 3
Pixel Type: U8
RasterFunction Infos: {"rasterFunctionInfos": [{
"name": "None",
"description": "",
"help": ""
}]}
Mensuration Capabilities: Basic
Has Histograms: true
Has Colormap: false
Has Multi Dimensions : false
Rendering Rule:
Min Scale: 0
Max Scale: 0
Copyright Text:
Service Data Type: esriImageServiceDataTypeRGB
Min Values: 1, 0, 0
Max Values: 255, 250, 255
Mean Values: 222.57485974867, 212.39397732758, 187.43116269223
Standard Deviation Values: 41.584737559045, 39.046303981651, 32.350287094459
Object ID Field:
Fields:
None
Default Mosaic Method: Center
Allowed Mosaic Methods:
SortField:
SortValue: null
Mosaic Operator: First
Default Compression Quality: 75
Default Resampling Method: Bilinear
Max Record Count: null
Max Image Height: 4100
Max Image Width: 15000
Max Download Image Count: null
Max Mosaic Image Count: null
Allow Raster Function: true
Allow Copy: true
Allow Analysis: true
Allow Compute TiePoints: false
Supports Statistics: false
Supports Advanced Queries: false
Use StandardizedQueries: true
Raster Type Infos:
Name: Raster Dataset
Description: Supports all ArcGIS Raster Datasets
Help:
Has Raster Attribute Table: false
Edit Fields Info: null
Ownership Based AccessControl For Rasters: null
Child Resources:
Info
Histograms
Statistics
Key Properties
Legend
Raster Function Infos
Supported Operations:
Export Image
Identify
Measure
Compute Histograms
Compute Statistics Histograms
Get Samples
Compute Class Statistics
Query Boundary
Compute Pixel Location
Compute Angles
Validate
Project