{
 "currentVersion": 11.1,
 "serviceDescription": "agsmap029836_correct_tif",
 "name": "agsmap029836_correct_tif",
 "description": "",
 "extent": {
  "xmin": -88.26460888884367,
  "ymin": 10.210681490775276,
  "xmax": -82.83188393663337,
  "ymax": 15.200907554921624,
  "spatialReference": {
   "wkid": 4326,
   "latestWkid": 4326
  }
 },
 "initialExtent": {
  "xmin": -88.26460888884367,
  "ymin": 10.210681490775276,
  "xmax": -82.83188393663337,
  "ymax": 15.200907554921624,
  "spatialReference": {
   "wkid": 4326,
   "latestWkid": 4326
  }
 },
 "fullExtent": {
  "xmin": -88.26460888884367,
  "ymin": 10.210681490775276,
  "xmax": -82.83188393663337,
  "ymax": 15.200907554921624,
  "spatialReference": {
   "wkid": 4326,
   "latestWkid": 4326
  }
 },
 "sortableFields": "",
 "bandCount": 3,
 "pixelType": "U8",
 "minValues": [
  1,
  0,
  0
 ],
 "maxValues": [
  255,
  250,
  255
 ],
 "meanValues": [
  222.57485974867,
  212.39397732758,
  187.43116269223
 ],
 "stdvValues": [
  41.584737559045,
  39.046303981651,
  32.350287094459
 ],
 "hasMultidimensions": false,
 "pixelSizeX": 5.901287152085914E-4,
 "pixelSizeY": 5.781747264681206E-4,
 "datasetFormat": "TIFF",
 "uncompressedSize": 238370958,
 "blockWidth": 9206,
 "blockHeight": 1,
 "compressionType": "None",
 "bandNames": [
  "Band_1",
  "Band_2",
  "Band_3"
 ],
 "allowCopy": true,
 "allowAnalysis": true,
 "itemAccess": false,
 "minPixelSize": 0,
 "maxPixelSize": 0,
 "copyrightText": "",
 "serviceDataType": "esriImageServiceDataTypeRGB",
 "serviceSourceType": "esriImageServiceSourceTypeDataset",
 "objectIdField": "",
 "fields": [],
 "capabilities": "Image,Metadata,Mensuration",
 "defaultMosaicMethod": "Center",
 "allowedMosaicMethods": "",
 "sortField": "",
 "sortValue": null,
 "sortAscending": true,
 "mosaicOperator": "First",
 "defaultCompressionQuality": 75,
 "defaultResamplingMethod": "Bilinear",
 "maxImageHeight": 4100,
 "maxImageWidth": 15000,
 "allowRasterFunction": true,
 "rasterFunctionInfos": [
  {
   "name": "None",
   "description": "",
   "help": ""
  }
 ],
 "rasterTypeInfos": [
  {
   "name": "Raster Dataset",
   "description": "Supports all ArcGIS Raster Datasets",
   "help": ""
  }
 ],
 "mensurationCapabilities": "Basic",
 "hasHistograms": true,
 "hasColormap": false,
 "hasRasterAttributeTable": false,
 "minScale": 0,
 "maxScale": 0,
 "exportTilesAllowed": false,
 "supportsStatistics": false,
 "supportsAdvancedQueries": false,
 "editFieldsInfo": null,
 "ownershipBasedAccessControlForRasters": null,
 "allowComputeTiePoints": false,
 "useStandardizedQueries": true,
 "advancedQueryCapabilities": {
  "useStandardizedQueries": true,
  "supportsStatistics": false,
  "supportsOrderBy": false,
  "supportsDistinct": false,
  "supportsPagination": false
 },
 "spatialReference": {
  "wkid": 4326,
  "latestWkid": 4326
 }
}
