View In:
ArcGIS JavaScript
ArcGIS Online Map Viewer
ArcGIS Earth
Service Description: agsmap029834_tif
Name: agsmap029834_tif
Description:
Single Fused Map Cache: false
Extent:
XMin: -92.6418466888892
YMin: 13.43669496033438
XMax: -87.78807995761746
YMax: 18.992530464713532
Spatial Reference: 4326
(4326)
LatestVCSWkid(0)
Initial Extent:
XMin: -92.6418466888892
YMin: 13.43669496033438
XMax: -87.78807995761746
YMax: 18.992530464713532
Spatial Reference: 4326
(4326)
LatestVCSWkid(0)
Full Extent:
XMin: -92.6418466888892
YMin: 13.43669496033438
XMax: -87.78807995761746
YMax: 18.992530464713532
Spatial Reference: 4326
(4326)
LatestVCSWkid(0)
Pixel Size X: 9.657315422347289E-4
Pixel Size Y: 9.075196838254087E-4
Band Count: 3
Pixel Type: U8
RasterFunction Infos: {"rasterFunctionInfos": [{
"name": "None",
"description": "",
"help": ""
}]}
Mensuration Capabilities: Basic
Has Histograms: true
Has Colormap: false
Has Multi Dimensions : false
Rendering Rule:
Min Scale: 0
Max Scale: 0
Copyright Text:
Service Data Type: esriImageServiceDataTypeRGB
Min Values: 16, 4, 4
Max Values: 253, 245, 246
Mean Values: 222.24962956427, 212.91521237553, 192.86310440857
Standard Deviation Values: 36.732285827199, 36.167378356242, 31.478363626967
Object ID Field:
Fields:
None
Default Mosaic Method: Center
Allowed Mosaic Methods:
SortField:
SortValue: null
Mosaic Operator: First
Default Compression Quality: 75
Default Resampling Method: Bilinear
Max Record Count: null
Max Image Height: 4100
Max Image Width: 15000
Max Download Image Count: null
Max Mosaic Image Count: null
Allow Raster Function: true
Allow Copy: true
Allow Analysis: true
Allow Compute TiePoints: false
Supports Statistics: false
Supports Advanced Queries: false
Use StandardizedQueries: true
Raster Type Infos:
Name: Raster Dataset
Description: Supports all ArcGIS Raster Datasets
Help:
Has Raster Attribute Table: false
Edit Fields Info: null
Ownership Based AccessControl For Rasters: null
Child Resources:
Info
Histograms
Statistics
Key Properties
Legend
Raster Function Infos
Supported Operations:
Export Image
Identify
Measure
Compute Histograms
Compute Statistics Histograms
Get Samples
Compute Class Statistics
Query Boundary
Compute Pixel Location
Compute Angles
Validate
Project