{
 "currentVersion": 11.1,
 "serviceDescription": "agsmap029834_tif",
 "name": "agsmap029834_tif",
 "description": "",
 "extent": {
  "xmin": -92.6418466888892,
  "ymin": 13.43669496033438,
  "xmax": -87.78807995761746,
  "ymax": 18.992530464713532,
  "spatialReference": {
   "wkid": 4326,
   "latestWkid": 4326
  }
 },
 "initialExtent": {
  "xmin": -92.6418466888892,
  "ymin": 13.43669496033438,
  "xmax": -87.78807995761746,
  "ymax": 18.992530464713532,
  "spatialReference": {
   "wkid": 4326,
   "latestWkid": 4326
  }
 },
 "fullExtent": {
  "xmin": -92.6418466888892,
  "ymin": 13.43669496033438,
  "xmax": -87.78807995761746,
  "ymax": 18.992530464713532,
  "spatialReference": {
   "wkid": 4326,
   "latestWkid": 4326
  }
 },
 "sortableFields": "",
 "bandCount": 3,
 "pixelType": "U8",
 "minValues": [
  16,
  4,
  4
 ],
 "maxValues": [
  253,
  245,
  246
 ],
 "meanValues": [
  222.24962956427,
  212.91521237553,
  192.86310440857
 ],
 "stdvValues": [
  36.732285827199,
  36.167378356242,
  31.478363626967
 ],
 "hasMultidimensions": false,
 "pixelSizeX": 9.657315422347289E-4,
 "pixelSizeY": 9.075196838254087E-4,
 "datasetFormat": "TIFF",
 "uncompressedSize": 92307516,
 "blockWidth": 5026,
 "blockHeight": 1,
 "compressionType": "None",
 "bandNames": [
  "Band_1",
  "Band_2",
  "Band_3"
 ],
 "allowCopy": true,
 "allowAnalysis": true,
 "itemAccess": false,
 "minPixelSize": 0,
 "maxPixelSize": 0,
 "copyrightText": "",
 "serviceDataType": "esriImageServiceDataTypeRGB",
 "serviceSourceType": "esriImageServiceSourceTypeDataset",
 "objectIdField": "",
 "fields": [],
 "capabilities": "Image,Metadata,Mensuration",
 "defaultMosaicMethod": "Center",
 "allowedMosaicMethods": "",
 "sortField": "",
 "sortValue": null,
 "sortAscending": true,
 "mosaicOperator": "First",
 "defaultCompressionQuality": 75,
 "defaultResamplingMethod": "Bilinear",
 "maxImageHeight": 4100,
 "maxImageWidth": 15000,
 "allowRasterFunction": true,
 "rasterFunctionInfos": [
  {
   "name": "None",
   "description": "",
   "help": ""
  }
 ],
 "rasterTypeInfos": [
  {
   "name": "Raster Dataset",
   "description": "Supports all ArcGIS Raster Datasets",
   "help": ""
  }
 ],
 "mensurationCapabilities": "Basic",
 "hasHistograms": true,
 "hasColormap": false,
 "hasRasterAttributeTable": false,
 "minScale": 0,
 "maxScale": 0,
 "exportTilesAllowed": false,
 "supportsStatistics": false,
 "supportsAdvancedQueries": false,
 "editFieldsInfo": null,
 "ownershipBasedAccessControlForRasters": null,
 "allowComputeTiePoints": false,
 "useStandardizedQueries": true,
 "advancedQueryCapabilities": {
  "useStandardizedQueries": true,
  "supportsStatistics": false,
  "supportsOrderBy": false,
  "supportsDistinct": false,
  "supportsPagination": false
 },
 "spatialReference": {
  "wkid": 4326,
  "latestWkid": 4326
 }
}
