View In:
ArcGIS JavaScript
ArcGIS Online Map Viewer
ArcGIS Earth
Service Description: agsmap029814_tif
Name: agsmap029814_tif
Description:
Single Fused Map Cache: false
Extent:
XMin: -85.79411642088861
YMin: 18.914694072789786
XMax: -73.25095552017737
YMax: 24.239341573515507
Spatial Reference: 4326
(4326)
LatestVCSWkid(0)
Initial Extent:
XMin: -85.79411642088861
YMin: 18.914694072789786
XMax: -73.25095552017737
YMax: 24.239341573515507
Spatial Reference: 4326
(4326)
LatestVCSWkid(0)
Full Extent:
XMin: -85.79411642088861
YMin: 18.914694072789786
XMax: -73.25095552017737
YMax: 24.239341573515507
Spatial Reference: 4326
(4326)
LatestVCSWkid(0)
Pixel Size X: 8.746974128808398E-4
Pixel Size Y: 8.322362458152112E-4
Band Count: 3
Pixel Type: U8
RasterFunction Infos: {"rasterFunctionInfos": [{
"name": "None",
"description": "",
"help": ""
}]}
Mensuration Capabilities: Basic
Has Histograms: true
Has Colormap: false
Has Multi Dimensions : false
Rendering Rule:
Min Scale: 0
Max Scale: 0
Copyright Text:
Service Data Type: esriImageServiceDataTypeRGB
Min Values: 3, 8, 0
Max Values: 255, 253, 247
Mean Values: 217.07167474752, 210.38254976819, 194.34731363269
Standard Deviation Values: 42.155501057923, 41.244292949147, 36.337287270862
Object ID Field:
Fields:
None
Default Mosaic Method: Center
Allowed Mosaic Methods:
SortField:
SortValue: null
Mosaic Operator: First
Default Compression Quality: 75
Default Resampling Method: Bilinear
Max Record Count: null
Max Image Height: 4100
Max Image Width: 15000
Max Download Image Count: null
Max Mosaic Image Count: null
Allow Raster Function: true
Allow Copy: true
Allow Analysis: true
Allow Compute TiePoints: false
Supports Statistics: false
Supports Advanced Queries: false
Use StandardizedQueries: true
Raster Type Infos:
Name: Raster Dataset
Description: Supports all ArcGIS Raster Datasets
Help:
Has Raster Attribute Table: false
Edit Fields Info: null
Ownership Based AccessControl For Rasters: null
Child Resources:
Info
Histograms
Statistics
Key Properties
Legend
Raster Function Infos
Supported Operations:
Export Image
Identify
Measure
Compute Histograms
Compute Statistics Histograms
Get Samples
Compute Class Statistics
Query Boundary
Compute Pixel Location
Compute Angles
Validate
Project