{
 "currentVersion": 11.1,
 "serviceDescription": "agsmap029814_tif",
 "name": "agsmap029814_tif",
 "description": "",
 "extent": {
  "xmin": -85.79411642088861,
  "ymin": 18.914694072789786,
  "xmax": -73.25095552017737,
  "ymax": 24.239341573515507,
  "spatialReference": {
   "wkid": 4326,
   "latestWkid": 4326
  }
 },
 "initialExtent": {
  "xmin": -85.79411642088861,
  "ymin": 18.914694072789786,
  "xmax": -73.25095552017737,
  "ymax": 24.239341573515507,
  "spatialReference": {
   "wkid": 4326,
   "latestWkid": 4326
  }
 },
 "fullExtent": {
  "xmin": -85.79411642088861,
  "ymin": 18.914694072789786,
  "xmax": -73.25095552017737,
  "ymax": 24.239341573515507,
  "spatialReference": {
   "wkid": 4326,
   "latestWkid": 4326
  }
 },
 "sortableFields": "",
 "bandCount": 3,
 "pixelType": "U8",
 "minValues": [
  3,
  8,
  0
 ],
 "maxValues": [
  255,
  253,
  247
 ],
 "meanValues": [
  217.07167474752,
  210.38254976819,
  194.34731363269
 ],
 "stdvValues": [
  42.155501057923,
  41.244292949147,
  36.337287270862
 ],
 "hasMultidimensions": false,
 "pixelSizeX": 8.746974128808398E-4,
 "pixelSizeY": 8.322362458152112E-4,
 "datasetFormat": "TIFF",
 "uncompressedSize": 275241960,
 "blockWidth": 14340,
 "blockHeight": 1,
 "compressionType": "None",
 "bandNames": [
  "Band_1",
  "Band_2",
  "Band_3"
 ],
 "allowCopy": true,
 "allowAnalysis": true,
 "itemAccess": false,
 "minPixelSize": 0,
 "maxPixelSize": 0,
 "copyrightText": "",
 "serviceDataType": "esriImageServiceDataTypeRGB",
 "serviceSourceType": "esriImageServiceSourceTypeDataset",
 "objectIdField": "",
 "fields": [],
 "capabilities": "Image,Metadata,Mensuration",
 "defaultMosaicMethod": "Center",
 "allowedMosaicMethods": "",
 "sortField": "",
 "sortValue": null,
 "sortAscending": true,
 "mosaicOperator": "First",
 "defaultCompressionQuality": 75,
 "defaultResamplingMethod": "Bilinear",
 "maxImageHeight": 4100,
 "maxImageWidth": 15000,
 "allowRasterFunction": true,
 "rasterFunctionInfos": [
  {
   "name": "None",
   "description": "",
   "help": ""
  }
 ],
 "rasterTypeInfos": [
  {
   "name": "Raster Dataset",
   "description": "Supports all ArcGIS Raster Datasets",
   "help": ""
  }
 ],
 "mensurationCapabilities": "Basic",
 "hasHistograms": true,
 "hasColormap": false,
 "hasRasterAttributeTable": false,
 "minScale": 0,
 "maxScale": 0,
 "exportTilesAllowed": false,
 "supportsStatistics": false,
 "supportsAdvancedQueries": false,
 "editFieldsInfo": null,
 "ownershipBasedAccessControlForRasters": null,
 "allowComputeTiePoints": false,
 "useStandardizedQueries": true,
 "advancedQueryCapabilities": {
  "useStandardizedQueries": true,
  "supportsStatistics": false,
  "supportsOrderBy": false,
  "supportsDistinct": false,
  "supportsPagination": false
 },
 "spatialReference": {
  "wkid": 4326,
  "latestWkid": 4326
 }
}
