View In:
ArcGIS JavaScript
ArcGIS Online Map Viewer
ArcGIS Earth
Service Description: agsmap029787_tif
Name: agsmap029787_tif
Description:
Single Fused Map Cache: false
Extent:
XMin: -85.56879040530632
YMin: 18.223536348708244
XMax: -73.4565418394907
YMax: 26.070153040170137
Spatial Reference: 4326
(4326)
LatestVCSWkid(0)
Initial Extent:
XMin: -85.56879040530632
YMin: 18.223536348708244
XMax: -73.4565418394907
YMax: 26.070153040170137
Spatial Reference: 4326
(4326)
LatestVCSWkid(0)
Full Extent:
XMin: -85.56879040530632
YMin: 18.223536348708244
XMax: -73.4565418394907
YMax: 26.070153040170137
Spatial Reference: 4326
(4326)
LatestVCSWkid(0)
Pixel Size X: 5.571155220926185E-4
Pixel Size Y: 5.184760599618007E-4
Band Count: 3
Pixel Type: U8
RasterFunction Infos: {"rasterFunctionInfos": [{
"name": "None",
"description": "",
"help": ""
}]}
Mensuration Capabilities: Basic
Has Histograms: true
Has Colormap: false
Has Multi Dimensions : false
Rendering Rule:
Min Scale: 0
Max Scale: 0
Copyright Text:
Service Data Type: esriImageServiceDataTypeRGB
Min Values: 1, 0, 3
Max Values: 255, 255, 244
Mean Values: 198.26807348975, 191.81437389997, 155.62981533131
Standard Deviation Values: 36.671520099127, 36.976508806757, 33.452088509415
Object ID Field:
Fields:
None
Default Mosaic Method: Center
Allowed Mosaic Methods:
SortField:
SortValue: null
Mosaic Operator: First
Default Compression Quality: 75
Default Resampling Method: Bilinear
Max Record Count: null
Max Image Height: 4100
Max Image Width: 15000
Max Download Image Count: null
Max Mosaic Image Count: null
Allow Raster Function: true
Allow Copy: true
Allow Analysis: true
Allow Compute TiePoints: false
Supports Statistics: false
Supports Advanced Queries: false
Use StandardizedQueries: true
Raster Type Infos:
Name: Raster Dataset
Description: Supports all ArcGIS Raster Datasets
Help:
Has Raster Attribute Table: false
Edit Fields Info: null
Ownership Based AccessControl For Rasters: null
Child Resources:
Info
Histograms
Statistics
Key Properties
Legend
Raster Function Infos
Supported Operations:
Export Image
Identify
Measure
Compute Histograms
Compute Statistics Histograms
Get Samples
Compute Class Statistics
Query Boundary
Compute Pixel Location
Compute Angles
Validate
Project