{
 "currentVersion": 11.1,
 "serviceDescription": "agsmap029787_tif",
 "name": "agsmap029787_tif",
 "description": "",
 "extent": {
  "xmin": -85.56879040530632,
  "ymin": 18.223536348708244,
  "xmax": -73.4565418394907,
  "ymax": 26.070153040170137,
  "spatialReference": {
   "wkid": 4326,
   "latestWkid": 4326
  }
 },
 "initialExtent": {
  "xmin": -85.56879040530632,
  "ymin": 18.223536348708244,
  "xmax": -73.4565418394907,
  "ymax": 26.070153040170137,
  "spatialReference": {
   "wkid": 4326,
   "latestWkid": 4326
  }
 },
 "fullExtent": {
  "xmin": -85.56879040530632,
  "ymin": 18.223536348708244,
  "xmax": -73.4565418394907,
  "ymax": 26.070153040170137,
  "spatialReference": {
   "wkid": 4326,
   "latestWkid": 4326
  }
 },
 "sortableFields": "",
 "bandCount": 3,
 "pixelType": "U8",
 "minValues": [
  1,
  0,
  3
 ],
 "maxValues": [
  255,
  255,
  244
 ],
 "meanValues": [
  198.26807348975,
  191.81437389997,
  155.62981533131
 ],
 "stdvValues": [
  36.671520099127,
  36.976508806757,
  33.452088509415
 ],
 "hasMultidimensions": false,
 "pixelSizeX": 5.571155220926185E-4,
 "pixelSizeY": 5.184760599618007E-4,
 "datasetFormat": "TIFF",
 "uncompressedSize": 987084882,
 "blockWidth": 21741,
 "blockHeight": 1,
 "compressionType": "None",
 "bandNames": [
  "Band_1",
  "Band_2",
  "Band_3"
 ],
 "allowCopy": true,
 "allowAnalysis": true,
 "itemAccess": false,
 "minPixelSize": 0,
 "maxPixelSize": 0,
 "copyrightText": "",
 "serviceDataType": "esriImageServiceDataTypeRGB",
 "serviceSourceType": "esriImageServiceSourceTypeDataset",
 "objectIdField": "",
 "fields": [],
 "capabilities": "Image,Metadata,Mensuration",
 "defaultMosaicMethod": "Center",
 "allowedMosaicMethods": "",
 "sortField": "",
 "sortValue": null,
 "sortAscending": true,
 "mosaicOperator": "First",
 "defaultCompressionQuality": 75,
 "defaultResamplingMethod": "Bilinear",
 "maxImageHeight": 4100,
 "maxImageWidth": 15000,
 "allowRasterFunction": true,
 "rasterFunctionInfos": [
  {
   "name": "None",
   "description": "",
   "help": ""
  }
 ],
 "rasterTypeInfos": [
  {
   "name": "Raster Dataset",
   "description": "Supports all ArcGIS Raster Datasets",
   "help": ""
  }
 ],
 "mensurationCapabilities": "Basic",
 "hasHistograms": true,
 "hasColormap": false,
 "hasRasterAttributeTable": false,
 "minScale": 0,
 "maxScale": 0,
 "exportTilesAllowed": false,
 "supportsStatistics": false,
 "supportsAdvancedQueries": false,
 "editFieldsInfo": null,
 "ownershipBasedAccessControlForRasters": null,
 "allowComputeTiePoints": false,
 "useStandardizedQueries": true,
 "advancedQueryCapabilities": {
  "useStandardizedQueries": true,
  "supportsStatistics": false,
  "supportsOrderBy": false,
  "supportsDistinct": false,
  "supportsPagination": false
 },
 "spatialReference": {
  "wkid": 4326,
  "latestWkid": 4326
 }
}
