View In:
ArcGIS JavaScript
ArcGIS Online Map Viewer
ArcGIS Earth
Service Description: agsmap029758_tif
Name: agsmap029758_tif
Description:
Single Fused Map Cache: false
Extent:
XMin: -86.28439699632005
YMin: 7.858564298649496
XMax: -82.35414609174198
YMax: 11.414025008997516
Spatial Reference: 4326
(4326)
LatestVCSWkid(0)
Initial Extent:
XMin: -86.28439699632005
YMin: 7.858564298649496
XMax: -82.35414609174198
YMax: 11.414025008997516
Spatial Reference: 4326
(4326)
LatestVCSWkid(0)
Full Extent:
XMin: -86.28439699632005
YMin: 7.858564298649496
XMax: -82.35414609174198
YMax: 11.414025008997516
Spatial Reference: 4326
(4326)
LatestVCSWkid(0)
Pixel Size X: 4.204376235107054E-4
Pixel Size Y: 4.221133456426476E-4
Band Count: 3
Pixel Type: U8
RasterFunction Infos: {"rasterFunctionInfos": [{
"name": "None",
"description": "",
"help": ""
}]}
Mensuration Capabilities: Basic
Has Histograms: true
Has Colormap: false
Has Multi Dimensions : false
Rendering Rule:
Min Scale: 0
Max Scale: 0
Copyright Text:
Service Data Type: esriImageServiceDataTypeRGB
Min Values: 2, 0, 5
Max Values: 255, 255, 255
Mean Values: 233.33730585216, 231.37459768576, 218.32676457798
Standard Deviation Values: 28.795885000293, 28.351320152874, 23.909465026763
Object ID Field:
Fields:
None
Default Mosaic Method: Center
Allowed Mosaic Methods:
SortField:
SortValue: null
Mosaic Operator: First
Default Compression Quality: 75
Default Resampling Method: Bilinear
Max Record Count: null
Max Image Height: 4100
Max Image Width: 15000
Max Download Image Count: null
Max Mosaic Image Count: null
Allow Raster Function: true
Allow Copy: true
Allow Analysis: true
Allow Compute TiePoints: false
Supports Statistics: false
Supports Advanced Queries: false
Use StandardizedQueries: true
Raster Type Infos:
Name: Raster Dataset
Description: Supports all ArcGIS Raster Datasets
Help:
Has Raster Attribute Table: false
Edit Fields Info: null
Ownership Based AccessControl For Rasters: null
Child Resources:
Info
Histograms
Statistics
Key Properties
Legend
Raster Function Infos
Supported Operations:
Export Image
Identify
Measure
Compute Histograms
Compute Statistics Histograms
Get Samples
Compute Class Statistics
Query Boundary
Compute Pixel Location
Compute Angles
Validate
Project