{
 "currentVersion": 11.1,
 "serviceDescription": "agsmap029758_tif",
 "name": "agsmap029758_tif",
 "description": "",
 "extent": {
  "xmin": -86.28439699632005,
  "ymin": 7.858564298649496,
  "xmax": -82.35414609174198,
  "ymax": 11.414025008997516,
  "spatialReference": {
   "wkid": 4326,
   "latestWkid": 4326
  }
 },
 "initialExtent": {
  "xmin": -86.28439699632005,
  "ymin": 7.858564298649496,
  "xmax": -82.35414609174198,
  "ymax": 11.414025008997516,
  "spatialReference": {
   "wkid": 4326,
   "latestWkid": 4326
  }
 },
 "fullExtent": {
  "xmin": -86.28439699632005,
  "ymin": 7.858564298649496,
  "xmax": -82.35414609174198,
  "ymax": 11.414025008997516,
  "spatialReference": {
   "wkid": 4326,
   "latestWkid": 4326
  }
 },
 "sortableFields": "",
 "bandCount": 3,
 "pixelType": "U8",
 "minValues": [
  2,
  0,
  5
 ],
 "maxValues": [
  255,
  255,
  255
 ],
 "meanValues": [
  233.33730585216,
  231.37459768576,
  218.32676457798
 ],
 "stdvValues": [
  28.795885000293,
  28.351320152874,
  23.909465026763
 ],
 "hasMultidimensions": false,
 "pixelSizeX": 4.204376235107054E-4,
 "pixelSizeY": 4.221133456426476E-4,
 "datasetFormat": "TIFF",
 "uncompressedSize": 236214612,
 "blockWidth": 9348,
 "blockHeight": 1,
 "compressionType": "None",
 "bandNames": [
  "Band_1",
  "Band_2",
  "Band_3"
 ],
 "allowCopy": true,
 "allowAnalysis": true,
 "itemAccess": false,
 "minPixelSize": 0,
 "maxPixelSize": 0,
 "copyrightText": "",
 "serviceDataType": "esriImageServiceDataTypeRGB",
 "serviceSourceType": "esriImageServiceSourceTypeDataset",
 "objectIdField": "",
 "fields": [],
 "capabilities": "Image,Metadata,Mensuration",
 "defaultMosaicMethod": "Center",
 "allowedMosaicMethods": "",
 "sortField": "",
 "sortValue": null,
 "sortAscending": true,
 "mosaicOperator": "First",
 "defaultCompressionQuality": 75,
 "defaultResamplingMethod": "Bilinear",
 "maxImageHeight": 4100,
 "maxImageWidth": 15000,
 "allowRasterFunction": true,
 "rasterFunctionInfos": [
  {
   "name": "None",
   "description": "",
   "help": ""
  }
 ],
 "rasterTypeInfos": [
  {
   "name": "Raster Dataset",
   "description": "Supports all ArcGIS Raster Datasets",
   "help": ""
  }
 ],
 "mensurationCapabilities": "Basic",
 "hasHistograms": true,
 "hasColormap": false,
 "hasRasterAttributeTable": false,
 "minScale": 0,
 "maxScale": 0,
 "exportTilesAllowed": false,
 "supportsStatistics": false,
 "supportsAdvancedQueries": false,
 "editFieldsInfo": null,
 "ownershipBasedAccessControlForRasters": null,
 "allowComputeTiePoints": false,
 "useStandardizedQueries": true,
 "advancedQueryCapabilities": {
  "useStandardizedQueries": true,
  "supportsStatistics": false,
  "supportsOrderBy": false,
  "supportsDistinct": false,
  "supportsPagination": false
 },
 "spatialReference": {
  "wkid": 4326,
  "latestWkid": 4326
 }
}
