View In:
ArcGIS JavaScript
ArcGIS Online Map Viewer
ArcGIS Earth
Service Description: agsmap029739_tif
Name: agsmap029739_tif
Description:
Single Fused Map Cache: false
Extent:
XMin: -1.0079975336633563E7
YMin: 1152034.1739349365
XMax: -9177776.737271428
YMax: 1917311.6099014282
Spatial Reference: 102100
(3857)
LatestVCSWkid(0)
Initial Extent:
XMin: -1.0079975336633563E7
YMin: 1152034.1739349365
XMax: -9177776.737271428
YMax: 1917311.6099014282
Spatial Reference: 102100
(3857)
LatestVCSWkid(0)
Full Extent:
XMin: -1.0079975336633563E7
YMin: 1152034.1739349365
XMax: -9177776.737271428
YMax: 1917311.6099014282
Spatial Reference: 102100
(3857)
LatestVCSWkid(0)
Pixel Size X: 120.46983567393977
Pixel Size Y: 119.74298794656418
Band Count: 3
Pixel Type: U8
RasterFunction Infos: {"rasterFunctionInfos": [{
"name": "None",
"description": "",
"help": ""
}]}
Mensuration Capabilities: Basic
Has Histograms: true
Has Colormap: false
Has Multi Dimensions : false
Rendering Rule:
Min Scale: 0
Max Scale: 0
Copyright Text:
Service Data Type: esriImageServiceDataTypeRGB
Min Values: 0, 0, 14
Max Values: 255, 255, 255
Mean Values: 220.58191371446, 219.98745066011, 206.96117999092
Standard Deviation Values: 36.673789848458, 35.479418377311, 31.299990749663
Object ID Field:
Fields:
None
Default Mosaic Method: Center
Allowed Mosaic Methods:
SortField:
SortValue: null
Mosaic Operator: First
Default Compression Quality: 75
Default Resampling Method: Bilinear
Max Record Count: null
Max Image Height: 4100
Max Image Width: 15000
Max Download Image Count: null
Max Mosaic Image Count: null
Allow Raster Function: true
Allow Copy: true
Allow Analysis: true
Allow Compute TiePoints: false
Supports Statistics: false
Supports Advanced Queries: false
Use StandardizedQueries: true
Raster Type Infos:
Name: Raster Dataset
Description: Supports all ArcGIS Raster Datasets
Help:
Has Raster Attribute Table: false
Edit Fields Info: null
Ownership Based AccessControl For Rasters: null
Child Resources:
Info
Histograms
Statistics
Key Properties
Legend
Raster Function Infos
Supported Operations:
Export Image
Identify
Measure
Compute Histograms
Compute Statistics Histograms
Get Samples
Compute Class Statistics
Query Boundary
Compute Pixel Location
Compute Angles
Validate
Project