{
 "currentVersion": 11.1,
 "serviceDescription": "agsmap029739_tif",
 "name": "agsmap029739_tif",
 "description": "",
 "extent": {
  "xmin": -1.0079975336633563E7,
  "ymin": 1152034.1739349365,
  "xmax": -9177776.737271428,
  "ymax": 1917311.6099014282,
  "spatialReference": {
   "wkid": 102100,
   "latestWkid": 3857
  }
 },
 "initialExtent": {
  "xmin": -1.0079975336633563E7,
  "ymin": 1152034.1739349365,
  "xmax": -9177776.737271428,
  "ymax": 1917311.6099014282,
  "spatialReference": {
   "wkid": 102100,
   "latestWkid": 3857
  }
 },
 "fullExtent": {
  "xmin": -1.0079975336633563E7,
  "ymin": 1152034.1739349365,
  "xmax": -9177776.737271428,
  "ymax": 1917311.6099014282,
  "spatialReference": {
   "wkid": 102100,
   "latestWkid": 3857
  }
 },
 "sortableFields": "",
 "bandCount": 3,
 "pixelType": "U8",
 "minValues": [
  0,
  0,
  14
 ],
 "maxValues": [
  255,
  255,
  255
 ],
 "meanValues": [
  220.58191371446,
  219.98745066011,
  206.96117999092
 ],
 "stdvValues": [
  36.673789848458,
  35.479418377311,
  31.299990749663
 ],
 "hasMultidimensions": false,
 "pixelSizeX": 120.46983567393977,
 "pixelSizeY": 119.74298794656418,
 "datasetFormat": "TIFF",
 "uncompressedSize": 143586597,
 "blockWidth": 7489,
 "blockHeight": 1,
 "compressionType": "None",
 "bandNames": [
  "Band_1",
  "Band_2",
  "Band_3"
 ],
 "allowCopy": true,
 "allowAnalysis": true,
 "itemAccess": false,
 "minPixelSize": 0,
 "maxPixelSize": 0,
 "copyrightText": "",
 "serviceDataType": "esriImageServiceDataTypeRGB",
 "serviceSourceType": "esriImageServiceSourceTypeDataset",
 "objectIdField": "",
 "fields": [],
 "capabilities": "Image,Metadata,Mensuration",
 "defaultMosaicMethod": "Center",
 "allowedMosaicMethods": "",
 "sortField": "",
 "sortValue": null,
 "sortAscending": true,
 "mosaicOperator": "First",
 "defaultCompressionQuality": 75,
 "defaultResamplingMethod": "Bilinear",
 "maxImageHeight": 4100,
 "maxImageWidth": 15000,
 "allowRasterFunction": true,
 "rasterFunctionInfos": [
  {
   "name": "None",
   "description": "",
   "help": ""
  }
 ],
 "rasterTypeInfos": [
  {
   "name": "Raster Dataset",
   "description": "Supports all ArcGIS Raster Datasets",
   "help": ""
  }
 ],
 "mensurationCapabilities": "Basic",
 "hasHistograms": true,
 "hasColormap": false,
 "hasRasterAttributeTable": false,
 "minScale": 0,
 "maxScale": 0,
 "exportTilesAllowed": false,
 "supportsStatistics": false,
 "supportsAdvancedQueries": false,
 "editFieldsInfo": null,
 "ownershipBasedAccessControlForRasters": null,
 "allowComputeTiePoints": false,
 "useStandardizedQueries": true,
 "advancedQueryCapabilities": {
  "useStandardizedQueries": true,
  "supportsStatistics": false,
  "supportsOrderBy": false,
  "supportsDistinct": false,
  "supportsPagination": false
 },
 "spatialReference": {
  "wkid": 102100,
  "latestWkid": 3857
 }
}
