View In:
ArcGIS JavaScript
ArcGIS Online Map Viewer
ArcGIS Earth
Service Description: agsmap029706_tif
Name: agsmap029706_tif
Description:
Single Fused Map Cache: false
Extent:
XMin: -1.0431516640525796E7
YMin: 1478810.3853395411
XMax: -9657755.512607327
YMax: 2187210.307633246
Spatial Reference: 102100
(3857)
LatestVCSWkid(0)
Initial Extent:
XMin: -1.0431516640525796E7
YMin: 1478810.3853395411
XMax: -9657755.512607327
YMax: 2187210.307633246
Spatial Reference: 102100
(3857)
LatestVCSWkid(0)
Full Extent:
XMin: -1.0431516640525796E7
YMin: 1478810.3853395411
XMax: -9657755.512607327
YMax: 2187210.307633246
Spatial Reference: 102100
(3857)
LatestVCSWkid(0)
Pixel Size X: 111.28449991636255
Pixel Size Y: 110.96490010866302
Band Count: 3
Pixel Type: U8
RasterFunction Infos: {"rasterFunctionInfos": [{
"name": "None",
"description": "",
"help": ""
}]}
Mensuration Capabilities: Basic
Has Histograms: true
Has Colormap: false
Has Multi Dimensions : false
Rendering Rule:
Min Scale: 0
Max Scale: 0
Copyright Text:
Service Data Type: esriImageServiceDataTypeRGB
Min Values: 21, 16, 22
Max Values: 255, 250, 255
Mean Values: 224.50176836272, 216.17020436084, 195.04530240546
Standard Deviation Values: 36.186608718756, 34.911165419308, 28.786588213759
Object ID Field:
Fields:
None
Default Mosaic Method: Center
Allowed Mosaic Methods:
SortField:
SortValue: null
Mosaic Operator: First
Default Compression Quality: 75
Default Resampling Method: Bilinear
Max Record Count: null
Max Image Height: 4100
Max Image Width: 15000
Max Download Image Count: null
Max Mosaic Image Count: null
Allow Raster Function: true
Allow Copy: true
Allow Analysis: true
Allow Compute TiePoints: false
Supports Statistics: false
Supports Advanced Queries: false
Use StandardizedQueries: true
Raster Type Infos:
Name: Raster Dataset
Description: Supports all ArcGIS Raster Datasets
Help:
Has Raster Attribute Table: false
Edit Fields Info: null
Ownership Based AccessControl For Rasters: null
Child Resources:
Info
Histograms
Statistics
Key Properties
Legend
Raster Function Infos
Supported Operations:
Export Image
Identify
Measure
Compute Histograms
Compute Statistics Histograms
Get Samples
Compute Class Statistics
Query Boundary
Compute Pixel Location
Compute Angles
Validate
Project