{
 "currentVersion": 11.1,
 "serviceDescription": "agsmap029706_tif",
 "name": "agsmap029706_tif",
 "description": "",
 "extent": {
  "xmin": -1.0431516640525796E7,
  "ymin": 1478810.3853395411,
  "xmax": -9657755.512607327,
  "ymax": 2187210.307633246,
  "spatialReference": {
   "wkid": 102100,
   "latestWkid": 3857
  }
 },
 "initialExtent": {
  "xmin": -1.0431516640525796E7,
  "ymin": 1478810.3853395411,
  "xmax": -9657755.512607327,
  "ymax": 2187210.307633246,
  "spatialReference": {
   "wkid": 102100,
   "latestWkid": 3857
  }
 },
 "fullExtent": {
  "xmin": -1.0431516640525796E7,
  "ymin": 1478810.3853395411,
  "xmax": -9657755.512607327,
  "ymax": 2187210.307633246,
  "spatialReference": {
   "wkid": 102100,
   "latestWkid": 3857
  }
 },
 "sortableFields": "",
 "bandCount": 3,
 "pixelType": "U8",
 "minValues": [
  21,
  16,
  22
 ],
 "maxValues": [
  255,
  250,
  255
 ],
 "meanValues": [
  224.50176836272,
  216.17020436084,
  195.04530240546
 ],
 "stdvValues": [
  36.186608718756,
  34.911165419308,
  28.786588213759
 ],
 "hasMultidimensions": false,
 "pixelSizeX": 111.28449991636255,
 "pixelSizeY": 110.96490010866302,
 "datasetFormat": "TIFF",
 "uncompressedSize": 133163856,
 "blockWidth": 6953,
 "blockHeight": 1,
 "compressionType": "None",
 "bandNames": [
  "Band_1",
  "Band_2",
  "Band_3"
 ],
 "allowCopy": true,
 "allowAnalysis": true,
 "itemAccess": false,
 "minPixelSize": 0,
 "maxPixelSize": 0,
 "copyrightText": "",
 "serviceDataType": "esriImageServiceDataTypeRGB",
 "serviceSourceType": "esriImageServiceSourceTypeDataset",
 "objectIdField": "",
 "fields": [],
 "capabilities": "Image,Metadata,Mensuration",
 "defaultMosaicMethod": "Center",
 "allowedMosaicMethods": "",
 "sortField": "",
 "sortValue": null,
 "sortAscending": true,
 "mosaicOperator": "First",
 "defaultCompressionQuality": 75,
 "defaultResamplingMethod": "Bilinear",
 "maxImageHeight": 4100,
 "maxImageWidth": 15000,
 "allowRasterFunction": true,
 "rasterFunctionInfos": [
  {
   "name": "None",
   "description": "",
   "help": ""
  }
 ],
 "rasterTypeInfos": [
  {
   "name": "Raster Dataset",
   "description": "Supports all ArcGIS Raster Datasets",
   "help": ""
  }
 ],
 "mensurationCapabilities": "Basic",
 "hasHistograms": true,
 "hasColormap": false,
 "hasRasterAttributeTable": false,
 "minScale": 0,
 "maxScale": 0,
 "exportTilesAllowed": false,
 "supportsStatistics": false,
 "supportsAdvancedQueries": false,
 "editFieldsInfo": null,
 "ownershipBasedAccessControlForRasters": null,
 "allowComputeTiePoints": false,
 "useStandardizedQueries": true,
 "advancedQueryCapabilities": {
  "useStandardizedQueries": true,
  "supportsStatistics": false,
  "supportsOrderBy": false,
  "supportsDistinct": false,
  "supportsPagination": false
 },
 "spatialReference": {
  "wkid": 102100,
  "latestWkid": 3857
 }
}
