View In:
ArcGIS JavaScript
ArcGIS Online Map Viewer
ArcGIS Earth
Service Description: agsmap029677_a_cropped_tif
Name: agsmap029677_a_cropped_tif
Description:
Single Fused Map Cache: false
Extent:
XMin: -81.17342304415651
YMin: 18.890871237491613
XMax: -73.72009108251201
YMax: 23.75550489258735
Spatial Reference: 4326
(4326)
LatestVCSWkid(0)
Initial Extent:
XMin: -81.17342304415651
YMin: 18.890871237491613
XMax: -73.72009108251201
YMax: 23.75550489258735
Spatial Reference: 4326
(4326)
LatestVCSWkid(0)
Full Extent:
XMin: -81.17342304415651
YMin: 18.890871237491613
XMax: -73.72009108251201
YMax: 23.75550489258735
Spatial Reference: 4326
(4326)
LatestVCSWkid(0)
Pixel Size X: 0.0012029263979413322
Pixel Size Y: 0.0013812134171197438
Band Count: 3
Pixel Type: U8
RasterFunction Infos: {"rasterFunctionInfos": [{
"name": "None",
"description": "",
"help": ""
}]}
Mensuration Capabilities: Basic
Has Histograms: true
Has Colormap: false
Has Multi Dimensions : false
Rendering Rule:
Min Scale: 0
Max Scale: 0
Copyright Text:
Service Data Type: esriImageServiceDataTypeRGB
Min Values: 31, 22, 22
Max Values: 255, 255, 253
Mean Values: 194.61175273268, 193.40887010509, 165.37571252766
Standard Deviation Values: 36.916842848483, 36.150404456696, 31.564074466184
Object ID Field:
Fields:
None
Default Mosaic Method: Center
Allowed Mosaic Methods:
SortField:
SortValue: null
Mosaic Operator: First
Default Compression Quality: 75
Default Resampling Method: Bilinear
Max Record Count: null
Max Image Height: 4100
Max Image Width: 15000
Max Download Image Count: null
Max Mosaic Image Count: null
Allow Raster Function: true
Allow Copy: true
Allow Analysis: true
Allow Compute TiePoints: false
Supports Statistics: false
Supports Advanced Queries: false
Use StandardizedQueries: true
Raster Type Infos:
Name: Raster Dataset
Description: Supports all ArcGIS Raster Datasets
Help:
Has Raster Attribute Table: false
Edit Fields Info: null
Ownership Based AccessControl For Rasters: null
Child Resources:
Info
Histograms
Statistics
Key Properties
Legend
Raster Function Infos
Supported Operations:
Export Image
Identify
Measure
Compute Histograms
Compute Statistics Histograms
Get Samples
Compute Class Statistics
Query Boundary
Compute Pixel Location
Compute Angles
Validate
Project