{
 "currentVersion": 11.1,
 "serviceDescription": "agsmap029677_a_cropped_tif",
 "name": "agsmap029677_a_cropped_tif",
 "description": "",
 "extent": {
  "xmin": -81.17342304415651,
  "ymin": 18.890871237491613,
  "xmax": -73.72009108251201,
  "ymax": 23.75550489258735,
  "spatialReference": {
   "wkid": 4326,
   "latestWkid": 4326
  }
 },
 "initialExtent": {
  "xmin": -81.17342304415651,
  "ymin": 18.890871237491613,
  "xmax": -73.72009108251201,
  "ymax": 23.75550489258735,
  "spatialReference": {
   "wkid": 4326,
   "latestWkid": 4326
  }
 },
 "fullExtent": {
  "xmin": -81.17342304415651,
  "ymin": 18.890871237491613,
  "xmax": -73.72009108251201,
  "ymax": 23.75550489258735,
  "spatialReference": {
   "wkid": 4326,
   "latestWkid": 4326
  }
 },
 "sortableFields": "",
 "bandCount": 3,
 "pixelType": "U8",
 "minValues": [
  31,
  22,
  22
 ],
 "maxValues": [
  255,
  255,
  253
 ],
 "meanValues": [
  194.61175273268,
  193.40887010509,
  165.37571252766
 ],
 "stdvValues": [
  36.916842848483,
  36.150404456696,
  31.564074466184
 ],
 "hasMultidimensions": false,
 "pixelSizeX": 0.0012029263979413322,
 "pixelSizeY": 0.0013812134171197438,
 "datasetFormat": "TIFF",
 "uncompressedSize": 65466936,
 "blockWidth": 6196,
 "blockHeight": 1,
 "compressionType": "None",
 "bandNames": [
  "Band_1",
  "Band_2",
  "Band_3"
 ],
 "allowCopy": true,
 "allowAnalysis": true,
 "itemAccess": false,
 "minPixelSize": 0,
 "maxPixelSize": 0,
 "copyrightText": "",
 "serviceDataType": "esriImageServiceDataTypeRGB",
 "serviceSourceType": "esriImageServiceSourceTypeDataset",
 "objectIdField": "",
 "fields": [],
 "capabilities": "Image,Metadata,Mensuration",
 "defaultMosaicMethod": "Center",
 "allowedMosaicMethods": "",
 "sortField": "",
 "sortValue": null,
 "sortAscending": true,
 "mosaicOperator": "First",
 "defaultCompressionQuality": 75,
 "defaultResamplingMethod": "Bilinear",
 "maxImageHeight": 4100,
 "maxImageWidth": 15000,
 "allowRasterFunction": true,
 "rasterFunctionInfos": [
  {
   "name": "None",
   "description": "",
   "help": ""
  }
 ],
 "rasterTypeInfos": [
  {
   "name": "Raster Dataset",
   "description": "Supports all ArcGIS Raster Datasets",
   "help": ""
  }
 ],
 "mensurationCapabilities": "Basic",
 "hasHistograms": true,
 "hasColormap": false,
 "hasRasterAttributeTable": false,
 "minScale": 0,
 "maxScale": 0,
 "exportTilesAllowed": false,
 "supportsStatistics": false,
 "supportsAdvancedQueries": false,
 "editFieldsInfo": null,
 "ownershipBasedAccessControlForRasters": null,
 "allowComputeTiePoints": false,
 "useStandardizedQueries": true,
 "advancedQueryCapabilities": {
  "useStandardizedQueries": true,
  "supportsStatistics": false,
  "supportsOrderBy": false,
  "supportsDistinct": false,
  "supportsPagination": false
 },
 "spatialReference": {
  "wkid": 4326,
  "latestWkid": 4326
 }
}
