View In:
ArcGIS JavaScript
ArcGIS Online Map Viewer
ArcGIS Earth
Service Description: agsmap029938_tif
Name: agsmap029938_tif
Description:
Single Fused Map Cache: false
Extent:
XMin: -80.35658131682654
YMin: 8.725944543507438
XMax: -79.33333807590988
YMax: 9.699661682757226
Spatial Reference: 4326
(4326)
LatestVCSWkid(0)
Initial Extent:
XMin: -80.35658131682654
YMin: 8.725944543507438
XMax: -79.33333807590988
YMax: 9.699661682757226
Spatial Reference: 4326
(4326)
LatestVCSWkid(0)
Full Extent:
XMin: -80.35658131682654
YMin: 8.725944543507438
XMax: -79.33333807590988
YMax: 9.699661682757226
Spatial Reference: 4326
(4326)
LatestVCSWkid(0)
Pixel Size X: 5.2422933598886025E-5
Pixel Size Y: 1.694599963887552E-4
Band Count: 3
Pixel Type: U8
RasterFunction Infos: {"rasterFunctionInfos": [{
"name": "None",
"description": "",
"help": ""
}]}
Mensuration Capabilities: Basic
Has Histograms: true
Has Colormap: false
Has Multi Dimensions : false
Rendering Rule:
Min Scale: 0
Max Scale: 0
Copyright Text:
Service Data Type: esriImageServiceDataTypeRGB
Min Values: 0, 0, 0
Max Values: 255, 244, 227
Mean Values: 216.36634351485, 199.2332761903, 170.40497348809
Standard Deviation Values: 36.058355027315, 31.693157096281, 24.798664579045
Object ID Field:
Fields:
None
Default Mosaic Method: Center
Allowed Mosaic Methods:
SortField:
SortValue: null
Mosaic Operator: First
Default Compression Quality: 75
Default Resampling Method: Bilinear
Max Record Count: null
Max Image Height: 4100
Max Image Width: 15000
Max Download Image Count: null
Max Mosaic Image Count: null
Allow Raster Function: true
Allow Copy: true
Allow Analysis: true
Allow Compute TiePoints: false
Supports Statistics: false
Supports Advanced Queries: false
Use StandardizedQueries: true
Raster Type Infos:
Name: Raster Dataset
Description: Supports all ArcGIS Raster Datasets
Help:
Has Raster Attribute Table: false
Edit Fields Info: null
Ownership Based AccessControl For Rasters: null
Child Resources:
Info
Histograms
Statistics
Key Properties
Legend
Raster Function Infos
Supported Operations:
Export Image
Identify
Measure
Compute Histograms
Compute Statistics Histograms
Get Samples
Compute Class Statistics
Query Boundary
Compute Pixel Location
Compute Angles
Validate
Project