View In:
ArcGIS JavaScript
ArcGIS Online Map Viewer
ArcGIS Earth
Service Description: agsmap029880_tif
Name: agsmap029880_tif
Description:
Single Fused Map Cache: false
Extent:
XMin: -87.01530189082699
YMin: 10.303663076076798
XMax: -83.11515336389155
YMax: 12.660324114931475
Spatial Reference: 4326
(4326)
LatestVCSWkid(0)
Initial Extent:
XMin: -87.01530189082699
YMin: 10.303663076076798
XMax: -83.11515336389155
YMax: 12.660324114931475
Spatial Reference: 4326
(4326)
LatestVCSWkid(0)
Full Extent:
XMin: -87.01530189082699
YMin: 10.303663076076798
XMax: -83.11515336389155
YMax: 12.660324114931475
Spatial Reference: 4326
(4326)
LatestVCSWkid(0)
Pixel Size X: 2.555296158642101E-4
Pixel Size Y: 2.463837991484241E-4
Band Count: 3
Pixel Type: U8
RasterFunction Infos: {"rasterFunctionInfos": [{
"name": "None",
"description": "",
"help": ""
}]}
Mensuration Capabilities: Basic
Has Histograms: true
Has Colormap: false
Has Multi Dimensions : false
Rendering Rule:
Min Scale: 0
Max Scale: 0
Copyright Text:
Service Data Type: esriImageServiceDataTypeRGB
Min Values: 0, 0, 0
Max Values: 255, 246, 242
Mean Values: 181.47378722586, 166.78878822986, 134.10041151637
Standard Deviation Values: 50.16008235952, 41.989816744667, 33.984531003294
Object ID Field:
Fields:
None
Default Mosaic Method: Center
Allowed Mosaic Methods:
SortField:
SortValue: null
Mosaic Operator: First
Default Compression Quality: 75
Default Resampling Method: Bilinear
Max Record Count: null
Max Image Height: 4100
Max Image Width: 15000
Max Download Image Count: null
Max Mosaic Image Count: null
Allow Raster Function: true
Allow Copy: true
Allow Analysis: true
Allow Compute TiePoints: false
Supports Statistics: false
Supports Advanced Queries: false
Use StandardizedQueries: true
Raster Type Infos:
Name: Raster Dataset
Description: Supports all ArcGIS Raster Datasets
Help:
Has Raster Attribute Table: false
Edit Fields Info: null
Ownership Based AccessControl For Rasters: null
Child Resources:
Info
Histograms
Statistics
Key Properties
Legend
Raster Function Infos
Supported Operations:
Export Image
Identify
Measure
Compute Histograms
Compute Statistics Histograms
Get Samples
Compute Class Statistics
Query Boundary
Compute Pixel Location
Compute Angles
Validate
Project