View In:
ArcGIS JavaScript
ArcGIS Online Map Viewer
ArcGIS Earth
Service Description: agsmap029879_tif
Name: agsmap029879_tif
Description:
Single Fused Map Cache: false
Extent:
XMin: -90.73885651080089
YMin: 12.829106118297211
XMax: -87.19721854226374
YMax: 15.824130433981537
Spatial Reference: 4326
(4326)
LatestVCSWkid(0)
Initial Extent:
XMin: -90.73885651080089
YMin: 12.829106118297211
XMax: -87.19721854226374
YMax: 15.824130433981537
Spatial Reference: 4326
(4326)
LatestVCSWkid(0)
Full Extent:
XMin: -90.73885651080089
YMin: 12.829106118297211
XMax: -87.19721854226374
YMax: 15.824130433981537
Spatial Reference: 4326
(4326)
LatestVCSWkid(0)
Pixel Size X: 4.733544464764963E-4
Pixel Size Y: 4.6091479157961304E-4
Band Count: 3
Pixel Type: U8
RasterFunction Infos: {"rasterFunctionInfos": [{
"name": "None",
"description": "",
"help": ""
}]}
Mensuration Capabilities: Basic
Has Histograms: true
Has Colormap: false
Has Multi Dimensions : false
Rendering Rule:
Min Scale: 0
Max Scale: 0
Copyright Text:
Service Data Type: esriImageServiceDataTypeRGB
Min Values: 0, 0, 0
Max Values: 255, 255, 255
Mean Values: 227.39950165822, 226.61302795124, 209.9489979604
Standard Deviation Values: 37.418123803199, 36.619907559901, 37.082443883079
Object ID Field:
Fields:
None
Default Mosaic Method: Center
Allowed Mosaic Methods:
SortField:
SortValue: null
Mosaic Operator: First
Default Compression Quality: 75
Default Resampling Method: Bilinear
Max Record Count: null
Max Image Height: 4100
Max Image Width: 15000
Max Download Image Count: null
Max Mosaic Image Count: null
Allow Raster Function: true
Allow Copy: true
Allow Analysis: true
Allow Compute TiePoints: false
Supports Statistics: false
Supports Advanced Queries: false
Use StandardizedQueries: true
Raster Type Infos:
Name: Raster Dataset
Description: Supports all ArcGIS Raster Datasets
Help:
Has Raster Attribute Table: false
Edit Fields Info: null
Ownership Based AccessControl For Rasters: null
Child Resources:
Info
Histograms
Statistics
Key Properties
Legend
Raster Function Infos
Supported Operations:
Export Image
Identify
Measure
Compute Histograms
Compute Statistics Histograms
Get Samples
Compute Class Statistics
Query Boundary
Compute Pixel Location
Compute Angles
Validate
Project