View In:
ArcGIS JavaScript
ArcGIS Online Map Viewer
ArcGIS Earth
Service Description: agsmap029789_tif
Name: agsmap029789_tif
Description:
Single Fused Map Cache: false
Extent:
XMin: -88.41859259629996
YMin: 10.190646841052828
XMax: -82.64224850479017
YMax: 15.801977133705542
Spatial Reference: 4326
(4326)
LatestVCSWkid(0)
Initial Extent:
XMin: -88.41859259629996
YMin: 10.190646841052828
XMax: -82.64224850479017
YMax: 15.801977133705542
Spatial Reference: 4326
(4326)
LatestVCSWkid(0)
Full Extent:
XMin: -88.41859259629996
YMin: 10.190646841052828
XMax: -82.64224850479017
YMax: 15.801977133705542
Spatial Reference: 4326
(4326)
LatestVCSWkid(0)
Pixel Size X: 4.8200468053319296E-4
Pixel Size Y: 4.4940976234604464E-4
Band Count: 3
Pixel Type: U8
RasterFunction Infos: {"rasterFunctionInfos": [{
"name": "None",
"description": "",
"help": ""
}]}
Mensuration Capabilities: Basic
Has Histograms: true
Has Colormap: false
Has Multi Dimensions : false
Rendering Rule:
Min Scale: 0
Max Scale: 0
Copyright Text:
Service Data Type: esriImageServiceDataTypeRGB
Min Values: 0, 0, 0
Max Values: 255, 255, 255
Mean Values: 216.58313635709, 205.56728155023, 176.34359606267
Standard Deviation Values: 40.687026571963, 39.95124270367, 34.545977825799
Object ID Field:
Fields:
None
Default Mosaic Method: Center
Allowed Mosaic Methods:
SortField:
SortValue: null
Mosaic Operator: First
Default Compression Quality: 75
Default Resampling Method: Bilinear
Max Record Count: null
Max Image Height: 4100
Max Image Width: 15000
Max Download Image Count: null
Max Mosaic Image Count: null
Allow Raster Function: true
Allow Copy: true
Allow Analysis: true
Allow Compute TiePoints: false
Supports Statistics: false
Supports Advanced Queries: false
Use StandardizedQueries: true
Raster Type Infos:
Name: Raster Dataset
Description: Supports all ArcGIS Raster Datasets
Help:
Has Raster Attribute Table: false
Edit Fields Info: null
Ownership Based AccessControl For Rasters: null
Child Resources:
Info
Histograms
Statistics
Key Properties
Legend
Raster Function Infos
Supported Operations:
Export Image
Identify
Measure
Compute Histograms
Compute Statistics Histograms
Get Samples
Compute Class Statistics
Query Boundary
Compute Pixel Location
Compute Angles
Validate
Project