View In:
ArcGIS JavaScript
ArcGIS Online Map Viewer
ArcGIS Earth
Service Description: agsmap029611_tif
Name: agsmap029611_tif
Description:
Single Fused Map Cache: false
Extent:
XMin: -93.311004519595
YMin: 5.992798824217508
XMax: -78.64703452425388
YMax: 18.449853886865434
Spatial Reference: 4326
(4326)
LatestVCSWkid(0)
Initial Extent:
XMin: -93.311004519595
YMin: 5.992798824217508
XMax: -78.64703452425388
YMax: 18.449853886865434
Spatial Reference: 4326
(4326)
LatestVCSWkid(0)
Full Extent:
XMin: -93.311004519595
YMin: 5.992798824217508
XMax: -78.64703452425388
YMax: 18.449853886865434
Spatial Reference: 4326
(4326)
LatestVCSWkid(0)
Pixel Size X: 6.106425416565803E-4
Pixel Size Y: 5.883740346990329E-4
Band Count: 3
Pixel Type: U8
RasterFunction Infos: {"rasterFunctionInfos": [{
"name": "None",
"description": "",
"help": ""
}]}
Mensuration Capabilities: Basic
Has Histograms: true
Has Colormap: false
Has Multi Dimensions : false
Rendering Rule:
Min Scale: 0
Max Scale: 0
Copyright Text:
Service Data Type: esriImageServiceDataTypeRGB
Min Values: 0, 0, 0
Max Values: 255, 255, 255
Mean Values: 217.88889141193, 210.63533075705, 193.51040131395
Standard Deviation Values: 40.499719131718, 39.480262698298, 35.039490955671
Object ID Field:
Fields:
None
Default Mosaic Method: Center
Allowed Mosaic Methods:
SortField:
SortValue: null
Mosaic Operator: First
Default Compression Quality: 75
Default Resampling Method: Bilinear
Max Record Count: null
Max Image Height: 4100
Max Image Width: 15000
Max Download Image Count: null
Max Mosaic Image Count: null
Allow Raster Function: true
Allow Copy: true
Allow Analysis: true
Allow Compute TiePoints: false
Supports Statistics: false
Supports Advanced Queries: false
Use StandardizedQueries: true
Raster Type Infos:
Name: Raster Dataset
Description: Supports all ArcGIS Raster Datasets
Help:
Has Raster Attribute Table: false
Edit Fields Info: null
Ownership Based AccessControl For Rasters: null
Child Resources:
Info
Histograms
Statistics
Key Properties
Legend
Raster Function Infos
Supported Operations:
Export Image
Identify
Measure
Compute Histograms
Compute Statistics Histograms
Get Samples
Compute Class Statistics
Query Boundary
Compute Pixel Location
Compute Angles
Validate
Project