View In:
ArcGIS JavaScript
ArcGIS Online Map Viewer
ArcGIS Earth
Service Description: AGSL/TestArcMAPImageService
Name: AGSL/TestArcMAPImageService
Description:
Single Fused Map Cache: false
Extent:
XMin: -86.14975445143155
YMin: 18.143362170607087
XMax: -72.79800967905477
YMax: 25.011699049146003
Spatial Reference: 4326
(4326)
LatestVCSWkid(0)
Initial Extent:
XMin: -86.14975445143155
YMin: 18.143362170607087
XMax: -72.79800967905477
YMax: 25.011699049146003
Spatial Reference: 4326
(4326)
LatestVCSWkid(0)
Full Extent:
XMin: -86.14975445143155
YMin: 18.143362170607087
XMax: -72.79800967905477
YMax: 25.011699049146003
Spatial Reference: 4326
(4326)
LatestVCSWkid(0)
Pixel Size X: 0.0014260114036501951
Pixel Size Y: 0.00197934780361352
Band Count: 3
Pixel Type: U8
RasterFunction Infos: {"rasterFunctionInfos": [{
"name": "None",
"description": "",
"help": ""
}]}
Mensuration Capabilities: Basic
Has Histograms: true
Has Colormap: false
Has Multi Dimensions : false
Rendering Rule:
Min Scale: 0
Max Scale: 0
Copyright Text:
Service Data Type: esriImageServiceDataTypeRGB
Min Values: 20, 15, 3
Max Values: 255, 255, 255
Mean Values: 232.75430274476, 221.31374497876, 195.10584617667
Standard Deviation Values: 37.624210682309, 36.554534618894, 30.557803398543
Object ID Field:
Fields:
None
Default Mosaic Method: Center
Allowed Mosaic Methods:
SortField:
SortValue: null
Mosaic Operator: First
Default Compression Quality: 75
Default Resampling Method: Bilinear
Max Record Count: null
Max Image Height: 4100
Max Image Width: 15000
Max Download Image Count: null
Max Mosaic Image Count: null
Allow Raster Function: true
Allow Copy: true
Allow Analysis: true
Allow Compute TiePoints: false
Supports Statistics: false
Supports Advanced Queries: false
Use StandardizedQueries: true
Raster Type Infos:
Name: Raster Dataset
Description: Supports all ArcGIS Raster Datasets
Help:
Has Raster Attribute Table: false
Edit Fields Info: null
Ownership Based AccessControl For Rasters: null
Child Resources:
Info
Histograms
Statistics
Key Properties
Legend
Raster Function Infos
Supported Operations:
Export Image
Identify
Measure
Compute Histograms
Compute Statistics Histograms
Get Samples
Compute Class Statistics
Query Boundary
Compute Pixel Location
Compute Angles
Validate
Project