View In:
ArcGIS JavaScript
ArcGIS Online Map Viewer
ArcGIS Earth
Service Description: AGSL/Lapham_IS_Test1
Name: AGSL/Lapham_IS_Test1
Description:
Single Fused Map Cache: false
Extent:
XMin: -9797726.064040655
YMin: 5306785.440009664
XMax: -9775181.855613733
YMax: 5336503.238613111
Spatial Reference: 102100
(3857)
LatestVCSWkid(0)
Initial Extent:
XMin: -9797726.064040655
YMin: 5306785.440009664
XMax: -9775181.855613733
YMax: 5336503.238613111
Spatial Reference: 102100
(3857)
LatestVCSWkid(0)
Full Extent:
XMin: -9797726.064040655
YMin: 5306785.440009664
XMax: -9775181.855613733
YMax: 5336503.238613111
Spatial Reference: 102100
(3857)
LatestVCSWkid(0)
Pixel Size X: 9.528405928538698
Pixel Size Y: 9.521883564065092
Band Count: 3
Pixel Type: U8
RasterFunction Infos: {"rasterFunctionInfos": [{
"name": "None",
"description": "",
"help": ""
}]}
Mensuration Capabilities: Basic
Has Histograms: true
Has Colormap: false
Has Multi Dimensions : false
Rendering Rule:
Min Scale: 0
Max Scale: 0
Copyright Text:
Service Data Type: esriImageServiceDataTypeRGB
Min Values: 0, 0, 0
Max Values: 255, 255, 255
Mean Values: 234.95760118176, 232.53874728037, 226.89644509977
Standard Deviation Values: 39.336050797341, 42.238367827543, 45.73812658079
Object ID Field:
Fields:
None
Default Mosaic Method: Center
Allowed Mosaic Methods:
SortField:
SortValue: null
Mosaic Operator: First
Default Compression Quality: 75
Default Resampling Method: Bilinear
Max Record Count: null
Max Image Height: 4100
Max Image Width: 15000
Max Download Image Count: null
Max Mosaic Image Count: null
Allow Raster Function: true
Allow Copy: true
Allow Analysis: true
Allow Compute TiePoints: false
Supports Statistics: false
Supports Advanced Queries: false
Use StandardizedQueries: true
Raster Type Infos:
Name: Raster Dataset
Description: Supports all ArcGIS Raster Datasets
Help:
Has Raster Attribute Table: false
Edit Fields Info: null
Ownership Based AccessControl For Rasters: null
Child Resources:
Info
Histograms
Statistics
Key Properties
Legend
Raster Function Infos
Supported Operations:
Export Image
Identify
Measure
Compute Histograms
Compute Statistics Histograms
Get Samples
Compute Class Statistics
Query Boundary
Compute Pixel Location
Compute Angles
Validate
Project