{
 "currentVersion": 11.1,
 "serviceDescription": "agsmap029960_tif",
 "name": "agsmap029960_tif",
 "description": "",
 "extent": {
  "xmin": -90.37413630179209,
  "ymin": 12.334191215524754,
  "xmax": -82.67968119560409,
  "ymax": 17.22332509966707,
  "spatialReference": {
   "wkid": 4326,
   "latestWkid": 4326
  }
 },
 "initialExtent": {
  "xmin": -90.37413630179209,
  "ymin": 12.334191215524754,
  "xmax": -82.67968119560409,
  "ymax": 17.22332509966707,
  "spatialReference": {
   "wkid": 4326,
   "latestWkid": 4326
  }
 },
 "fullExtent": {
  "xmin": -90.37413630179209,
  "ymin": 12.334191215524754,
  "xmax": -82.67968119560409,
  "ymax": 17.22332509966707,
  "spatialReference": {
   "wkid": 4326,
   "latestWkid": 4326
  }
 },
 "sortableFields": "",
 "bandCount": 3,
 "pixelType": "U8",
 "minValues": [
  4,
  9,
  5
 ],
 "maxValues": [
  255,
  255,
  255
 ],
 "meanValues": [
  199.5745888548,
  197.44378460047,
  180.70032827031
 ],
 "stdvValues": [
  38.090400655193,
  36.227688008327,
  34.78655595499
 ],
 "hasMultidimensions": false,
 "pixelSizeX": 4.822295754692907E-4,
 "pixelSizeY": 4.519443412962021E-4,
 "datasetFormat": "TIFF",
 "uncompressedSize": 517836024,
 "blockWidth": 15956,
 "blockHeight": 1,
 "compressionType": "None",
 "bandNames": [
  "Band_1",
  "Band_2",
  "Band_3"
 ],
 "allowCopy": true,
 "allowAnalysis": true,
 "itemAccess": false,
 "minPixelSize": 0,
 "maxPixelSize": 0,
 "copyrightText": "",
 "serviceDataType": "esriImageServiceDataTypeRGB",
 "serviceSourceType": "esriImageServiceSourceTypeDataset",
 "objectIdField": "",
 "fields": [],
 "capabilities": "Image,Metadata,Mensuration",
 "defaultMosaicMethod": "Center",
 "allowedMosaicMethods": "",
 "sortField": "",
 "sortValue": null,
 "sortAscending": true,
 "mosaicOperator": "First",
 "defaultCompressionQuality": 75,
 "defaultResamplingMethod": "Bilinear",
 "maxImageHeight": 4100,
 "maxImageWidth": 15000,
 "allowRasterFunction": true,
 "rasterFunctionInfos": [
  {
   "name": "None",
   "description": "",
   "help": ""
  }
 ],
 "rasterTypeInfos": [
  {
   "name": "Raster Dataset",
   "description": "Supports all ArcGIS Raster Datasets",
   "help": ""
  }
 ],
 "mensurationCapabilities": "Basic",
 "hasHistograms": true,
 "hasColormap": false,
 "hasRasterAttributeTable": false,
 "minScale": 0,
 "maxScale": 0,
 "exportTilesAllowed": false,
 "supportsStatistics": false,
 "supportsAdvancedQueries": false,
 "editFieldsInfo": null,
 "ownershipBasedAccessControlForRasters": null,
 "allowComputeTiePoints": false,
 "useStandardizedQueries": true,
 "advancedQueryCapabilities": {
  "useStandardizedQueries": true,
  "supportsStatistics": false,
  "supportsOrderBy": false,
  "supportsDistinct": false,
  "supportsPagination": false
 },
 "spatialReference": {
  "wkid": 4326,
  "latestWkid": 4326
 }
}
