{
 "currentVersion": 11.1,
 "serviceDescription": "agsmap029835_tif",
 "name": "agsmap029835_tif",
 "description": "",
 "extent": {
  "xmin": -87.9898436094303,
  "ymin": 9.804711240194875,
  "xmax": -82.79919671079769,
  "ymax": 16.650902659897515,
  "spatialReference": {
   "wkid": 4326,
   "latestWkid": 4326
  }
 },
 "initialExtent": {
  "xmin": -87.9898436094303,
  "ymin": 9.804711240194875,
  "xmax": -82.79919671079769,
  "ymax": 16.650902659897515,
  "spatialReference": {
   "wkid": 4326,
   "latestWkid": 4326
  }
 },
 "fullExtent": {
  "xmin": -87.9898436094303,
  "ymin": 9.804711240194875,
  "xmax": -82.79919671079769,
  "ymax": 16.650902659897515,
  "spatialReference": {
   "wkid": 4326,
   "latestWkid": 4326
  }
 },
 "sortableFields": "",
 "bandCount": 3,
 "pixelType": "U8",
 "minValues": [
  4,
  4,
  14
 ],
 "maxValues": [
  255,
  248,
  237
 ],
 "meanValues": [
  217.53599098716,
  202.57729449262,
  173.1967523479
 ],
 "stdvValues": [
  43.66018036263,
  41.155063207815,
  33.019369279422
 ],
 "hasMultidimensions": false,
 "pixelSizeX": 7.687569458875307E-4,
 "pixelSizeY": 7.785956351305175E-4,
 "datasetFormat": "TIFF",
 "uncompressedSize": 178111008,
 "blockWidth": 6752,
 "blockHeight": 1,
 "compressionType": "None",
 "bandNames": [
  "Band_1",
  "Band_2",
  "Band_3"
 ],
 "allowCopy": true,
 "allowAnalysis": true,
 "itemAccess": false,
 "minPixelSize": 0,
 "maxPixelSize": 0,
 "copyrightText": "",
 "serviceDataType": "esriImageServiceDataTypeRGB",
 "serviceSourceType": "esriImageServiceSourceTypeDataset",
 "objectIdField": "",
 "fields": [],
 "capabilities": "Image,Metadata,Mensuration",
 "defaultMosaicMethod": "Center",
 "allowedMosaicMethods": "",
 "sortField": "",
 "sortValue": null,
 "sortAscending": true,
 "mosaicOperator": "First",
 "defaultCompressionQuality": 75,
 "defaultResamplingMethod": "Bilinear",
 "maxImageHeight": 4100,
 "maxImageWidth": 15000,
 "allowRasterFunction": true,
 "rasterFunctionInfos": [
  {
   "name": "None",
   "description": "",
   "help": ""
  }
 ],
 "rasterTypeInfos": [
  {
   "name": "Raster Dataset",
   "description": "Supports all ArcGIS Raster Datasets",
   "help": ""
  }
 ],
 "mensurationCapabilities": "Basic",
 "hasHistograms": true,
 "hasColormap": false,
 "hasRasterAttributeTable": false,
 "minScale": 0,
 "maxScale": 0,
 "exportTilesAllowed": false,
 "supportsStatistics": false,
 "supportsAdvancedQueries": false,
 "editFieldsInfo": null,
 "ownershipBasedAccessControlForRasters": null,
 "allowComputeTiePoints": false,
 "useStandardizedQueries": true,
 "advancedQueryCapabilities": {
  "useStandardizedQueries": true,
  "supportsStatistics": false,
  "supportsOrderBy": false,
  "supportsDistinct": false,
  "supportsPagination": false
 },
 "spatialReference": {
  "wkid": 4326,
  "latestWkid": 4326
 }
}
