{
 "currentVersion": 11.1,
 "serviceDescription": "agsmap029676_tif",
 "name": "agsmap029676_tif",
 "description": "",
 "extent": {
  "xmin": -86.14975445143155,
  "ymin": 18.143362170607087,
  "xmax": -72.79800967905477,
  "ymax": 25.011699049146003,
  "spatialReference": {
   "wkid": 4326,
   "latestWkid": 4326
  }
 },
 "initialExtent": {
  "xmin": -86.14975445143155,
  "ymin": 18.143362170607087,
  "xmax": -72.79800967905477,
  "ymax": 25.011699049146003,
  "spatialReference": {
   "wkid": 4326,
   "latestWkid": 4326
  }
 },
 "fullExtent": {
  "xmin": -86.14975445143155,
  "ymin": 18.143362170607087,
  "xmax": -72.79800967905477,
  "ymax": 25.011699049146003,
  "spatialReference": {
   "wkid": 4326,
   "latestWkid": 4326
  }
 },
 "sortableFields": "",
 "bandCount": 3,
 "pixelType": "U8",
 "minValues": [
  20,
  15,
  3
 ],
 "maxValues": [
  255,
  255,
  255
 ],
 "meanValues": [
  232.75430274476,
  221.31374497876,
  195.10584617667
 ],
 "stdvValues": [
  37.624210682309,
  36.554534618894,
  30.557803398543
 ],
 "hasMultidimensions": false,
 "pixelSizeX": 0.0014260114036501951,
 "pixelSizeY": 0.00197934780361352,
 "datasetFormat": "TIFF",
 "uncompressedSize": 97468830,
 "blockWidth": 9363,
 "blockHeight": 1,
 "compressionType": "None",
 "bandNames": [
  "Band_1",
  "Band_2",
  "Band_3"
 ],
 "allowCopy": true,
 "allowAnalysis": true,
 "itemAccess": false,
 "minPixelSize": 0,
 "maxPixelSize": 0,
 "copyrightText": "",
 "serviceDataType": "esriImageServiceDataTypeRGB",
 "serviceSourceType": "esriImageServiceSourceTypeDataset",
 "objectIdField": "",
 "fields": [],
 "capabilities": "Image,Metadata,Mensuration",
 "defaultMosaicMethod": "Center",
 "allowedMosaicMethods": "",
 "sortField": "",
 "sortValue": null,
 "sortAscending": true,
 "mosaicOperator": "First",
 "defaultCompressionQuality": 75,
 "defaultResamplingMethod": "Bilinear",
 "maxImageHeight": 4100,
 "maxImageWidth": 15000,
 "allowRasterFunction": true,
 "rasterFunctionInfos": [
  {
   "name": "None",
   "description": "",
   "help": ""
  }
 ],
 "rasterTypeInfos": [
  {
   "name": "Raster Dataset",
   "description": "Supports all ArcGIS Raster Datasets",
   "help": ""
  }
 ],
 "mensurationCapabilities": "Basic",
 "hasHistograms": true,
 "hasColormap": false,
 "hasRasterAttributeTable": false,
 "minScale": 0,
 "maxScale": 0,
 "exportTilesAllowed": false,
 "supportsStatistics": false,
 "supportsAdvancedQueries": false,
 "editFieldsInfo": null,
 "ownershipBasedAccessControlForRasters": null,
 "allowComputeTiePoints": false,
 "useStandardizedQueries": true,
 "advancedQueryCapabilities": {
  "useStandardizedQueries": true,
  "supportsStatistics": false,
  "supportsOrderBy": false,
  "supportsDistinct": false,
  "supportsPagination": false
 },
 "spatialReference": {
  "wkid": 4326,
  "latestWkid": 4326
 }
}
